BEGIN:VCALENDAR
VERSION:2.0
PRODID:-//Will County Bar Association - ECPv6.15.20//NONSGML v1.0//EN
CALSCALE:GREGORIAN
METHOD:PUBLISH
X-WR-CALNAME:Will County Bar Association
X-ORIGINAL-URL:https://willcountybar.net
X-WR-CALDESC:Events for Will County Bar Association
REFRESH-INTERVAL;VALUE=DURATION:PT1H
X-Robots-Tag:noindex
X-PUBLISHED-TTL:PT1H
BEGIN:VTIMEZONE
TZID:America/Chicago
BEGIN:DAYLIGHT
TZOFFSETFROM:-0600
TZOFFSETTO:-0500
TZNAME:CDT
DTSTART:20220313T080000
END:DAYLIGHT
BEGIN:STANDARD
TZOFFSETFROM:-0500
TZOFFSETTO:-0600
TZNAME:CST
DTSTART:20221106T070000
END:STANDARD
BEGIN:DAYLIGHT
TZOFFSETFROM:-0600
TZOFFSETTO:-0500
TZNAME:CDT
DTSTART:20230312T080000
END:DAYLIGHT
BEGIN:STANDARD
TZOFFSETFROM:-0500
TZOFFSETTO:-0600
TZNAME:CST
DTSTART:20231105T070000
END:STANDARD
BEGIN:DAYLIGHT
TZOFFSETFROM:-0600
TZOFFSETTO:-0500
TZNAME:CDT
DTSTART:20240310T080000
END:DAYLIGHT
BEGIN:STANDARD
TZOFFSETFROM:-0500
TZOFFSETTO:-0600
TZNAME:CST
DTSTART:20241103T070000
END:STANDARD
BEGIN:DAYLIGHT
TZOFFSETFROM:-0600
TZOFFSETTO:-0500
TZNAME:CDT
DTSTART:20250309T080000
END:DAYLIGHT
BEGIN:STANDARD
TZOFFSETFROM:-0500
TZOFFSETTO:-0600
TZNAME:CST
DTSTART:20251102T070000
END:STANDARD
BEGIN:DAYLIGHT
TZOFFSETFROM:-0600
TZOFFSETTO:-0500
TZNAME:CDT
DTSTART:20260308T080000
END:DAYLIGHT
BEGIN:STANDARD
TZOFFSETFROM:-0500
TZOFFSETTO:-0600
TZNAME:CST
DTSTART:20261101T070000
END:STANDARD
BEGIN:DAYLIGHT
TZOFFSETFROM:-0600
TZOFFSETTO:-0500
TZNAME:CDT
DTSTART:20270314T080000
END:DAYLIGHT
BEGIN:STANDARD
TZOFFSETFROM:-0500
TZOFFSETTO:-0600
TZNAME:CST
DTSTART:20271107T070000
END:STANDARD
END:VTIMEZONE
BEGIN:VEVENT
DTSTART;TZID=America/Chicago:20260324T160000
DTEND;TZID=America/Chicago:20260324T170000
DTSTAMP:20260424T172425
CREATED:20260317T173325Z
LAST-MODIFIED:20260317T173325Z
UID:10000263-1774368000-1774371600@willcountybar.net
SUMMARY:Civil Committee: March Committee Meeting
DESCRIPTION:Speakers presenting on topics of interest to Civil attorneys. Topics include: Update on current happenings related to Civil law and analysis of current cases. \nZoom Details\nMeeting ID: 844 7137 9635\nPasscode: 780920 \nIf you would like to receive 1 hour of MCLE credit for attending a Committee meeting please RSVP to info@willcountybar.org. You must be a WCBA member in order to receive MCLE credit.
URL:https://willcountybar.net/event/civil-committee-march-committee-meeting-2/
CATEGORIES:Civil Litigation Committee,WCBA Events
ORGANIZER;CN="Will County Bar Association":MAILTO:info@willcountybar.org
END:VEVENT
BEGIN:VEVENT
DTSTART;TZID=America/Chicago:20260224T160000
DTEND;TZID=America/Chicago:20260224T170000
DTSTAMP:20260424T172425
CREATED:20260217T194627Z
LAST-MODIFIED:20260217T194627Z
UID:10000259-1771948800-1771952400@willcountybar.net
SUMMARY:Civil Committee: February Committee Meeting
DESCRIPTION:Speakers presenting on topics of interest to Civil attorneys. Topics include: Update on current happenings related to Civil law and analysis of current cases. \nZoom Details\nMeeting ID: 810 3599 4283\nPasscode: 011122 \nIf you would like to receive 1 hour of MCLE credit for attending a Committee meeting please RSVP to info@willcountybar.org. You must be a WCBA member in order to receive MCLE credit.
URL:https://willcountybar.net/event/civil-committee-february-committee-meeting-2/
CATEGORIES:Civil Litigation Committee,WCBA Events
ORGANIZER;CN="Will County Bar Association":MAILTO:info@willcountybar.org
END:VEVENT
BEGIN:VEVENT
DTSTART;TZID=America/Chicago:20251028T160000
DTEND;TZID=America/Chicago:20251028T170000
DTSTAMP:20260424T172425
CREATED:20251007T141057Z
LAST-MODIFIED:20251007T141057Z
UID:10000233-1761667200-1761670800@willcountybar.net
SUMMARY:Civil Committee: October Committee Meeting
DESCRIPTION:Speakers presenting on topics of interest to Civil attorneys. Topics include: Update on current happenings related to Civil law and analysis of current cases. \nZoom Details\nMeeting ID: 874 6961 8228\nPasscode: 305766 \nIf you would like to receive 1 hour of MCLE credit for attending a Committee meeting please RSVP to info@willcountybar.org. You must be a WCBA member in order to receive MCLE credit.
URL:https://willcountybar.net/event/civil-committee-october-committee-meeting-2/
CATEGORIES:Civil Litigation Committee,WCBA Events
ORGANIZER;CN="Will County Bar Association":MAILTO:info@willcountybar.org
END:VEVENT
BEGIN:VEVENT
DTSTART;TZID=America/Chicago:20250918T130000
DTEND;TZID=America/Chicago:20250918T163000
DTSTAMP:20260424T172425
CREATED:20250528T155607Z
LAST-MODIFIED:20250917T154848Z
UID:10000222-1758200400-1758213000@willcountybar.net
SUMMARY:Civil Committee Annual Seminar - September 2025 - CANCELED
DESCRIPTION:The Seminar has been canceled and will be rescheduled for a later date. \nIf you would like to receive 3 hours of MCLE credit for attending the seminar please RSVP to info@willcountybar.org. You must be a WCBA member in order to receive MCLE credit.
URL:https://willcountybar.net/event/civil-committee-annual-seminar-september-2025/
LOCATION:Will County Courthouse\, 100 W Jefferson St\, Joliet\, IL\, 60432\, United States
CATEGORIES:Civil Litigation Committee,WCBA Events
ORGANIZER;CN="Will County Bar Association":MAILTO:info@willcountybar.org
END:VEVENT
BEGIN:VEVENT
DTSTART;TZID=America/Chicago:20250826T160000
DTEND;TZID=America/Chicago:20250826T170000
DTSTAMP:20260424T172425
CREATED:20250625T210558Z
LAST-MODIFIED:20250625T210558Z
UID:10000225-1756224000-1756227600@willcountybar.net
SUMMARY:Civil Committee: August Committee Meeting
DESCRIPTION:Speakers presenting on topics of interest to Civil attorneys. Topics include: Update on current happenings related to Civil law and analysis of current cases. \nZoom Details\nMeeting ID: 834 4045 4306\nPasscode: 784271 \nIf you would like to receive 1 hour of MCLE credit for attending a Committee meeting please RSVP to info@willcountybar.org. You must be a WCBA member in order to receive MCLE credit.
URL:https://willcountybar.net/event/civil-committee-august-committee-meeting/
CATEGORIES:Civil Litigation Committee,WCBA Events
ORGANIZER;CN="Will County Bar Association":MAILTO:info@willcountybar.org
END:VEVENT
BEGIN:VEVENT
DTSTART;TZID=America/Chicago:20250624T160000
DTEND;TZID=America/Chicago:20250624T170000
DTSTAMP:20260424T172425
CREATED:20250602T152613Z
LAST-MODIFIED:20250602T152613Z
UID:10000223-1750780800-1750784400@willcountybar.net
SUMMARY:Civil Committee: June Committee Meeting
DESCRIPTION:Speakers presenting on topics of interest to Civil attorneys. Topics include: Update on current happenings related to Civil law and analysis of current cases. \nZoom Details\nMeeting ID: 860 1845 6842\nPasscode: 479011 \nIf you would like to receive 1 hour of MCLE credit for attending a Committee meeting please RSVP to info@willcountybar.org. You must be a WCBA member in order to receive MCLE credit.
URL:https://willcountybar.net/event/civil-committee-june-committee-meeting/
CATEGORIES:Civil Litigation Committee,WCBA Events
ORGANIZER;CN="Will County Bar Association":MAILTO:info@willcountybar.org
END:VEVENT
BEGIN:VEVENT
DTSTART;TZID=America/Chicago:20250527T160000
DTEND;TZID=America/Chicago:20250527T170000
DTSTAMP:20260424T172425
CREATED:20250423T164313Z
LAST-MODIFIED:20250423T164313Z
UID:10000212-1748361600-1748365200@willcountybar.net
SUMMARY:Civil Committee: May Committee Meeting
DESCRIPTION:Speakers presenting on topics of interest to Civil attorneys. Topics include: Update on current happenings related to Civil law and analysis of current cases. \nZoom Details\nMeeting ID: 880 0221 1524\nPasscode: 931602 \nIf you would like to receive 1 hour of MCLE credit for attending a Committee meeting please RSVP to info@willcountybar.org. You must be a WCBA member in order to receive MCLE credit.
URL:https://willcountybar.net/event/civil-committee-may-committee-meeting-2/
CATEGORIES:Civil Litigation Committee,WCBA Events
ORGANIZER;CN="Will County Bar Association":MAILTO:info@willcountybar.org
END:VEVENT
BEGIN:VEVENT
DTSTART;TZID=America/Chicago:20250422T160000
DTEND;TZID=America/Chicago:20250422T170000
DTSTAMP:20260424T172425
CREATED:20250327T144833Z
LAST-MODIFIED:20250327T144833Z
UID:10000203-1745337600-1745341200@willcountybar.net
SUMMARY:Civil Committee: April Committee Meeting
DESCRIPTION:Speakers presenting on topics of interest to Civil attorneys. Topics include: Update on current happenings related to Civil law and analysis of current cases. \nZoom Details\nMeeting ID: 843 0113 4846\nPasscode: 583919 \nIf you would like to receive 1 hour of MCLE credit for attending a Committee meeting please RSVP to info@willcountybar.org. You must be a WCBA member in order to receive MCLE credit.
URL:https://willcountybar.net/event/civil-committee-april-committee-meeting/
CATEGORIES:Civil Litigation Committee,WCBA Events
ORGANIZER;CN="Will County Bar Association":MAILTO:info@willcountybar.org
END:VEVENT
BEGIN:VEVENT
DTSTART;TZID=America/Chicago:20250225T160000
DTEND;TZID=America/Chicago:20250225T170000
DTSTAMP:20260424T172425
CREATED:20250220T231957Z
LAST-MODIFIED:20250220T231957Z
UID:10000192-1740499200-1740502800@willcountybar.net
SUMMARY:Civil Committee: February Committee Meeting
DESCRIPTION:Speakers presenting on topics of interest to Civil attorneys. Topics include: Update on current happenings related to Civil law and analysis of current cases. \nIf you would like to receive 1 hour of MCLE credit for attending a Committee meeting please RSVP to info@willcountybar.org. You must be a WCBA member in order to receive MCLE credit.
URL:https://willcountybar.net/event/civil-committee-february-committee-meeting/
LOCATION:KGG\, LLC\, 111 N Ottawa St\, Joliet\, IL\, 60432
CATEGORIES:Civil Litigation Committee,WCBA Events
ORGANIZER;CN="Will County Bar Association":MAILTO:info@willcountybar.org
END:VEVENT
BEGIN:VEVENT
DTSTART;TZID=America/Chicago:20250128T160000
DTEND;TZID=America/Chicago:20250128T170000
DTSTAMP:20260424T172425
CREATED:20250116T170239Z
LAST-MODIFIED:20250116T170239Z
UID:10000172-1738080000-1738083600@willcountybar.net
SUMMARY:Civil Committee: January Committee Meeting
DESCRIPTION:Speakers presenting on topics of interest to Civil attorneys. Topics include: Update on current happenings related to Civil law and analysis of current cases. \nIf you would like to receive 1 hour of MCLE credit for attending a Committee meeting please RSVP to info@willcountybar.org. You must be a WCBA member in order to receive MCLE credit.
URL:https://willcountybar.net/event/civil-committee-january-committee-meeting/
LOCATION:KGG\, LLC\, 111 N Ottawa St\, Joliet\, IL\, 60432
CATEGORIES:Civil Litigation Committee,WCBA Events
ORGANIZER;CN="Will County Bar Association":MAILTO:info@willcountybar.org
END:VEVENT
BEGIN:VEVENT
DTSTART;TZID=America/Chicago:20241029T160000
DTEND;TZID=America/Chicago:20241029T170000
DTSTAMP:20260424T172425
CREATED:20241024T141954Z
LAST-MODIFIED:20241024T141954Z
UID:10000162-1730217600-1730221200@willcountybar.net
SUMMARY:Civil Committee: October Committee Meeting
DESCRIPTION:Speakers presenting on topics of interest to Civil attorneys. Topics include: Update on current happenings related to Civil law and analysis of current cases. \nIf you would like to receive 1 hour of MCLE credit for attending a Committee meeting please RSVP to info@willcountybar.org. You must be a WCBA member in order to receive MCLE credit.
URL:https://willcountybar.net/event/civil-committee-october-committee-meeting/
LOCATION:KGG\, LLC\, 111 N Ottawa St\, Joliet\, IL\, 60432
CATEGORIES:Civil Litigation Committee,WCBA Events
ORGANIZER;CN="Will County Bar Association":MAILTO:info@willcountybar.org
END:VEVENT
BEGIN:VEVENT
DTSTART;TZID=America/Chicago:20240326T160000
DTEND;TZID=America/Chicago:20240326T170000
DTSTAMP:20260424T172425
CREATED:20240313T184005Z
LAST-MODIFIED:20240313T184005Z
UID:10000080-1711468800-1711472400@willcountybar.net
SUMMARY:Civil Committee: March Committee Meeting
DESCRIPTION:Speakers presenting on topics of interest to Civil attorneys. Topics include: Update on current happenings related to Civil law and analysis of current cases. \nIf you would like to receive 1 hour of MCLE credit for attending a Committee meeting please RSVP to info@willcountybar.org. You must be a WCBA member in order to receive MCLE credit.
URL:https://willcountybar.net/event/civil-committee-march-committee-meeting/
LOCATION:KGG\, LLC\, 111 N Ottawa St\, Joliet\, IL\, 60432
CATEGORIES:Civil Litigation Committee,WCBA Events
ORGANIZER;CN="Will County Bar Association":MAILTO:info@willcountybar.org
END:VEVENT
BEGIN:VEVENT
DTSTART;TZID=America/Chicago:20230927T170000
DTEND;TZID=America/Chicago:20230927T190000
DTSTAMP:20260424T172425
CREATED:20230824T152945Z
LAST-MODIFIED:20230824T152945Z
UID:10000040-1695834000-1695841200@willcountybar.net
SUMMARY:Civil Committee: Happy Hour
DESCRIPTION:Come join the WCBA Civil Committee for a happy hour at Juliet’s\, 205 N Chicago St\, Joliet\, on Wednesday\, September 27th from 5:00 PM to 7:00 PM.  Enjoy a restorative beverage\, socialize with the legal community\, and support a local business!! Hope to see you there!
URL:https://willcountybar.net/event/civil-committee-happy-hour/
LOCATION:Juliet’s\, 205 N. Chicago\, Joliet\, IL\, 60432\, United States
CATEGORIES:Civil Litigation Committee,WCBA Events
ORGANIZER;CN="Will County Bar Association":MAILTO:info@willcountybar.org
END:VEVENT
BEGIN:VEVENT
DTSTART;TZID=America/Chicago:20230926T160000
DTEND;TZID=America/Chicago:20230926T170000
DTSTAMP:20260424T172425
CREATED:20230824T153358Z
LAST-MODIFIED:20230824T153358Z
UID:10000041-1695744000-1695747600@willcountybar.net
SUMMARY:Civil Committee: September Committee Meeting
DESCRIPTION:Speakers presenting on topics of interest to Civil attorneys. Topics include: Update on current happenings related to Civil law and analysis of current cases. \nIf you would like to receive 1 hour of MCLE credit for attending a Committee meeting please RSVP to info@willcountybar.org. You must be a WCBA member in order to receive MCLE credit.
URL:https://willcountybar.net/event/civil-committee-september-committee-meeting/
LOCATION:KGG\, LLC\, 111 N Ottawa St\, Joliet\, IL\, 60432
CATEGORIES:Civil Litigation Committee,WCBA Events
ORGANIZER;CN="Will County Bar Association":MAILTO:info@willcountybar.org
END:VEVENT
BEGIN:VEVENT
DTSTART;TZID=America/Chicago:20230621T170000
DTEND;TZID=America/Chicago:20230621T190000
DTSTAMP:20260424T172425
CREATED:20230608T171832Z
LAST-MODIFIED:20230608T171832Z
UID:10000031-1687366800-1687374000@willcountybar.net
SUMMARY:Civil Committee: Ice Cream Social
DESCRIPTION:Come join the WCBA Civil Committee for an informal ice cream social at the Original Walt’s Ice Cream\, 1314 W Jefferson St\, Joliet\, on Wednesday\, June 21st from 5:00 PM to 7:00 PM. If the weather is poor\, we will try again on Wednesday\, June 28th. Support a local business\, satisfy your sweet tooth\, and socialize! Please note that each individual is responsible for their ice cream purchase. Hope to see you there!
URL:https://willcountybar.net/event/civil-committee-ice-cream-social/
LOCATION:Original Walt’s Ice Cream\, 1314 W Jefferson St\, Joliet\, IL\, 60432
CATEGORIES:Civil Litigation Committee,WCBA Events
ORGANIZER;CN="Will County Bar Association":MAILTO:info@willcountybar.org
END:VEVENT
BEGIN:VEVENT
DTSTART;TZID=America/Chicago:20230523T160000
DTEND;TZID=America/Chicago:20230523T170000
DTSTAMP:20260424T172425
CREATED:20230502T174644Z
LAST-MODIFIED:20230502T174750Z
UID:10000013-1684857600-1684861200@willcountybar.net
SUMMARY:Civil Committee: May Committee Meeting
DESCRIPTION:Speakers presenting on topics of interest to Civil attorneys. Topics include: Update on current happenings related to Civil law and analysis of current cases. \nZoom Details\nMeeting ID: 867 9049 5648\nPasscode: 988815\nLink: https://us02web.zoom.us/j/86790495648?pwd=K2hUWDNVYUdtQUU5Zi9lSlFSTC9EUT09 \nIf you would like to receive 1 hour of MCLE credit for attending a Committee meeting please RSVP to info@willcountybar.org. You must be a WCBA member in order to receive MCLE credit.
URL:https://willcountybar.net/event/civil-committee-may-committee-meeting/
LOCATION:KGG\, LLC\, 111 N Ottawa St\, Joliet\, IL\, 60432
CATEGORIES:Civil Litigation Committee,WCBA Events
ORGANIZER;CN="Will County Bar Association":MAILTO:info@willcountybar.org
END:VEVENT
END:VCALENDAR