BEGIN:VCALENDAR
VERSION:2.0
PRODID:-//Will County Bar Association - ECPv6.15.20//NONSGML v1.0//EN
CALSCALE:GREGORIAN
METHOD:PUBLISH
X-WR-CALNAME:Will County Bar Association
X-ORIGINAL-URL:https://willcountybar.net
X-WR-CALDESC:Events for Will County Bar Association
REFRESH-INTERVAL;VALUE=DURATION:PT1H
X-Robots-Tag:noindex
X-PUBLISHED-TTL:PT1H
BEGIN:VTIMEZONE
TZID:America/Chicago
BEGIN:DAYLIGHT
TZOFFSETFROM:-0600
TZOFFSETTO:-0500
TZNAME:CDT
DTSTART:20220313T080000
END:DAYLIGHT
BEGIN:STANDARD
TZOFFSETFROM:-0500
TZOFFSETTO:-0600
TZNAME:CST
DTSTART:20221106T070000
END:STANDARD
BEGIN:DAYLIGHT
TZOFFSETFROM:-0600
TZOFFSETTO:-0500
TZNAME:CDT
DTSTART:20230312T080000
END:DAYLIGHT
BEGIN:STANDARD
TZOFFSETFROM:-0500
TZOFFSETTO:-0600
TZNAME:CST
DTSTART:20231105T070000
END:STANDARD
BEGIN:DAYLIGHT
TZOFFSETFROM:-0600
TZOFFSETTO:-0500
TZNAME:CDT
DTSTART:20240310T080000
END:DAYLIGHT
BEGIN:STANDARD
TZOFFSETFROM:-0500
TZOFFSETTO:-0600
TZNAME:CST
DTSTART:20241103T070000
END:STANDARD
BEGIN:DAYLIGHT
TZOFFSETFROM:-0600
TZOFFSETTO:-0500
TZNAME:CDT
DTSTART:20250309T080000
END:DAYLIGHT
BEGIN:STANDARD
TZOFFSETFROM:-0500
TZOFFSETTO:-0600
TZNAME:CST
DTSTART:20251102T070000
END:STANDARD
BEGIN:DAYLIGHT
TZOFFSETFROM:-0600
TZOFFSETTO:-0500
TZNAME:CDT
DTSTART:20260308T080000
END:DAYLIGHT
BEGIN:STANDARD
TZOFFSETFROM:-0500
TZOFFSETTO:-0600
TZNAME:CST
DTSTART:20261101T070000
END:STANDARD
END:VTIMEZONE
BEGIN:VEVENT
DTSTART;TZID=America/Chicago:20250210T163000
DTEND;TZID=America/Chicago:20250210T173000
DTSTAMP:20260424T172257
CREATED:20250116T170800Z
LAST-MODIFIED:20250116T170800Z
UID:10000174-1739205000-1739208600@willcountybar.net
SUMMARY:Probate Committee: February Committee Meeting
DESCRIPTION:Speakers presenting on topics of interest to Probate attorneys.  Topics include: Analysis of current cases. \nZoom Details\nMeeting ID: 865 8256 2797\nPasscode: 066763 \nIf you would like to receive 1 hour of MCLE credit for attending a Committee meeting please RSVP to info@willcountybar.org. You must be a WCBA member in order to receive MCLE credit.
URL:https://willcountybar.net/event/probate-committee-february-committee-meeting-2/
CATEGORIES:Probate Committee,WCBA Events
ORGANIZER;CN="Will County Bar Association":MAILTO:info@willcountybar.org
END:VEVENT
BEGIN:VEVENT
DTSTART;TZID=America/Chicago:20250113T163000
DTEND;TZID=America/Chicago:20250113T173000
DTSTAMP:20260424T172257
CREATED:20241210T193700Z
LAST-MODIFIED:20241210T193700Z
UID:10000165-1736785800-1736789400@willcountybar.net
SUMMARY:Probate Committee: January Committee Meeting
DESCRIPTION:Speakers presenting on topics of interest to Probate attorneys.  Topics include: Analysis of current cases. \nZoom Details\nMeeting ID: 813 8601 3376\nPasscode: 761738\nLink: https://us02web.zoom.us/j/81386013376?pwd=NIqAT1PZ368bNJ4OyG1ilCffdfKm2e.1 \nIf you would like to receive 1 hour of MCLE credit for attending a Committee meeting please RSVP to info@willcountybar.org. You must be a WCBA member in order to receive MCLE credit.
URL:https://willcountybar.net/event/probate-committee-january-committee-meeting-2/
CATEGORIES:Probate Committee,WCBA Events
ORGANIZER;CN="Will County Bar Association":MAILTO:info@willcountybar.org
END:VEVENT
BEGIN:VEVENT
DTSTART;TZID=America/Chicago:20241209T163000
DTEND;TZID=America/Chicago:20241209T173000
DTSTAMP:20260424T172257
CREATED:20241121T183800Z
LAST-MODIFIED:20241121T183800Z
UID:10000163-1733761800-1733765400@willcountybar.net
SUMMARY:Probate Committee: December Committee Meeting
DESCRIPTION:Speakers presenting on topics of interest to Probate attorneys.  Topics include: Analysis of current cases. \nZoom Details\nMeeting ID: 849 2108 3717\nPasscode: 277543\nLink: https://us02web.zoom.us/j/84921083717?pwd=betXdaTOf74S6lVPP9qFrktarb4gY8.1 \nIf you would like to receive 1 hour of MCLE credit for attending a Committee meeting please RSVP to info@willcountybar.org. You must be a WCBA member in order to receive MCLE credit.
URL:https://willcountybar.net/event/probate-committee-december-committee-meeting/
CATEGORIES:Probate Committee,WCBA Events
ORGANIZER;CN="Will County Bar Association":MAILTO:info@willcountybar.org
END:VEVENT
BEGIN:VEVENT
DTSTART;TZID=America/Chicago:20241111T163000
DTEND;TZID=America/Chicago:20241111T173000
DTSTAMP:20260424T172257
CREATED:20241015T190832Z
LAST-MODIFIED:20241015T190832Z
UID:10000104-1731342600-1731346200@willcountybar.net
SUMMARY:Probate Committee: November Committee Meeting
DESCRIPTION:Speakers presenting on topics of interest to Probate attorneys.  Topics include: Analysis of current cases. \nZoom Details\nMeeting ID: 841 6182 9845\nPasscode: 637781\nLink: https://us02web.zoom.us/j/84161829845?pwd=g0iHK1sZyhvQpbh20RSOlTRbxOzGLW.1 \nIf you would like to receive 1 hour of MCLE credit for attending a Committee meeting please RSVP to info@willcountybar.org. You must be a WCBA member in order to receive MCLE credit.
URL:https://willcountybar.net/event/probate-committee-november-committee-meeting-2/
CATEGORIES:Probate Committee,WCBA Events
ORGANIZER;CN="Will County Bar Association":MAILTO:info@willcountybar.org
END:VEVENT
BEGIN:VEVENT
DTSTART;TZID=America/Chicago:20241014T163000
DTEND;TZID=America/Chicago:20241014T173000
DTSTAMP:20260424T172257
CREATED:20240909T171459Z
LAST-MODIFIED:20240909T171459Z
UID:10000100-1728923400-1728927000@willcountybar.net
SUMMARY:Probate Committee: October Committee Meeting
DESCRIPTION:Speakers presenting on topics of interest to Probate attorneys.  Topics include: Analysis of current cases. \nZoom Details\nMeeting ID: 835 6519 1822\nPasscode: 282323\nLink: https://us02web.zoom.us/j/83565191822?pwd=N9WNJmqLSbN7IhsDC2cWlKmrEvjS9Q.1 \nIf you would like to receive 1 hour of MCLE credit for attending a Committee meeting please RSVP to info@willcountybar.org. You must be a WCBA member in order to receive MCLE credit.
URL:https://willcountybar.net/event/probate-committee-october-committee-meeting-2/
CATEGORIES:Probate Committee,WCBA Events
ORGANIZER;CN="Will County Bar Association":MAILTO:info@willcountybar.org
END:VEVENT
BEGIN:VEVENT
DTSTART;TZID=America/Chicago:20240909T163000
DTEND;TZID=America/Chicago:20240909T173000
DTSTAMP:20260424T172257
CREATED:20240822T162533Z
LAST-MODIFIED:20240822T162533Z
UID:10000099-1725899400-1725903000@willcountybar.net
SUMMARY:Probate Committee: September Committee Meeting
DESCRIPTION:Speakers presenting on topics of interest to Probate attorneys.  Topics include: Analysis of current cases. \nZoom Details\nMeeting ID: 814 9113 4587\nPasscode: 449163\nLink: https://us02web.zoom.us/j/81491134587?pwd=TwbbDzfdnvamFvX1Z1Vk6Aaq20pqRE.1 \nIf you would like to receive 1 hour of MCLE credit for attending a Committee meeting please RSVP to info@willcountybar.org. You must be a WCBA member in order to receive MCLE credit.
URL:https://willcountybar.net/event/probate-committee-september-committee-meeting-2/
CATEGORIES:Probate Committee,WCBA Events
ORGANIZER;CN="Will County Bar Association":MAILTO:info@willcountybar.org
END:VEVENT
BEGIN:VEVENT
DTSTART;TZID=America/Chicago:20240513T163000
DTEND;TZID=America/Chicago:20240513T173000
DTSTAMP:20260424T172257
CREATED:20240409T163425Z
LAST-MODIFIED:20240409T163425Z
UID:10000082-1715617800-1715621400@willcountybar.net
SUMMARY:Probate Committee: May Committee Meeting
DESCRIPTION:Speakers presenting on topics of interest to Probate attorneys.  Topics include: Analysis of current cases. \nZoom Details\nMeeting ID: 819 4478 9500\nPasscode: 941796\nLink: https://us02web.zoom.us/j/81944789500?pwd=VmZoYk5zQ0JRaEFXYldnSm4wOWVtZz09 \nIf you would like to receive 1 hour of MCLE credit for attending a Committee meeting please RSVP to info@willcountybar.org. You must be a WCBA member in order to receive MCLE credit.
URL:https://willcountybar.net/event/probate-committee-may-committee-meeting-2/
CATEGORIES:Probate Committee,WCBA Events
ORGANIZER;CN="Will County Bar Association":MAILTO:info@willcountybar.org
END:VEVENT
BEGIN:VEVENT
DTSTART;TZID=America/Chicago:20240408T163000
DTEND;TZID=America/Chicago:20240408T173000
DTSTAMP:20260424T172257
CREATED:20240311T153725Z
LAST-MODIFIED:20240311T153725Z
UID:10000078-1712593800-1712597400@willcountybar.net
SUMMARY:Probate Committee: April Committee Meeting
DESCRIPTION:Speakers presenting on topics of interest to Probate attorneys.  Topics include: Analysis of current cases. \nZoom Details\nMeeting ID: 819 4731 2734\nPasscode: 150971\nLink:  https://us02web.zoom.us/j/81947312734?pwd=WmVtbHRrdWU0RDBlbjFiYitvL0ZiQT09 \nIf you would like to receive 1 hour of MCLE credit for attending a Committee meeting please RSVP to info@willcountybar.org. You must be a WCBA member in order to receive MCLE credit.
URL:https://willcountybar.net/event/probate-committee-april-committee-meeting/
CATEGORIES:Probate Committee,WCBA Events
ORGANIZER;CN="Will County Bar Association":MAILTO:info@willcountybar.org
END:VEVENT
BEGIN:VEVENT
DTSTART;TZID=America/Chicago:20240311T163000
DTEND;TZID=America/Chicago:20240311T173000
DTSTAMP:20260424T172257
CREATED:20240220T180843Z
LAST-MODIFIED:20240220T180843Z
UID:10000067-1710174600-1710178200@willcountybar.net
SUMMARY:Probate Committee: March Committee Meeting
DESCRIPTION:Speakers presenting on topics of interest to Probate attorneys.  Topics include: Analysis of current cases. \nZoom Details\nMeeting ID: 812 1661 4215\nPasscode: 179770\nLink: https://us02web.zoom.us/j/81216614215?pwd=Ty9ZOW4wUE5GZ3VUVHFlajFDeGpOdz09 \nIf you would like to receive 1 hour of MCLE credit for attending a Committee meeting please RSVP to info@willcountybar.org. You must be a WCBA member in order to receive MCLE credit.
URL:https://willcountybar.net/event/probate-committee-march-committee-meeting/
CATEGORIES:Probate Committee,WCBA Events
ORGANIZER;CN="Will County Bar Association":MAILTO:info@willcountybar.org
END:VEVENT
BEGIN:VEVENT
DTSTART;TZID=America/Chicago:20240212T163000
DTEND;TZID=America/Chicago:20240212T173000
DTSTAMP:20260424T172257
CREATED:20240111T192213Z
LAST-MODIFIED:20240111T192213Z
UID:10000055-1707755400-1707759000@willcountybar.net
SUMMARY:Probate Committee: February Committee Meeting
DESCRIPTION:Speakers presenting on topics of interest to Probate attorneys.  Topics include: Analysis of current cases. \nZoom Details\nMeeting ID: 841 1231 5819\nPasscode: 279624\nLink: https://us02web.zoom.us/j/84112315819?pwd=L3pobkw5am5IQVdPMEFNZkJaeFYvUT09 \nIf you would like to receive 1 hour of MCLE credit for attending a Committee meeting please RSVP to info@willcountybar.org. You must be a WCBA member in order to receive MCLE credit.
URL:https://willcountybar.net/event/probate-committee-february-committee-meeting/
CATEGORIES:Probate Committee,WCBA Events
ORGANIZER;CN="Will County Bar Association":MAILTO:info@willcountybar.org
END:VEVENT
BEGIN:VEVENT
DTSTART;TZID=America/Chicago:20240108T163000
DTEND;TZID=America/Chicago:20240108T173000
DTSTAMP:20260424T172257
CREATED:20231218T184601Z
LAST-MODIFIED:20231218T184601Z
UID:10000051-1704731400-1704735000@willcountybar.net
SUMMARY:Probate Committee: January Committee Meeting
DESCRIPTION:Speakers presenting on topics of interest to Probate attorneys.  Topics include: Analysis of current cases. \nZoom Details\nMeeting ID: 837 0364 3404 \nPasscode: 996405 \nLink: https://us02web.zoom.us/j/83703643404?pwd=d2I4M1QwdjY1aThKNlVZcVg2T1FiQT09 \nIf you would like to receive 1 hour of MCLE credit for attending a Committee meeting please RSVP to info@willcountybar.org. You must be a WCBA member in order to receive MCLE credit.
URL:https://willcountybar.net/event/probate-committee-january-committee-meeting/
CATEGORIES:Probate Committee,WCBA Events
ORGANIZER;CN="Will County Bar Association":MAILTO:info@willcountybar.org
END:VEVENT
BEGIN:VEVENT
DTSTART;TZID=America/Chicago:20231113T163000
DTEND;TZID=America/Chicago:20231113T173000
DTSTAMP:20260424T172257
CREATED:20231031T182203Z
LAST-MODIFIED:20231031T182203Z
UID:10000046-1699893000-1699896600@willcountybar.net
SUMMARY:Probate Committee: November Committee Meeting
DESCRIPTION:Speakers presenting on topics of interest to Probate attorneys.  Topics include: Analysis of current cases. \nZoom Details\nMeeting ID: 867 6455 7844\nPasscode: 486736\nLink: https://us02web.zoom.us/j/86764557844?pwd=L0hEVWpUNnhaVThha2ZUcWlTM29zUT09 \nIf you would like to receive 1 hour of MCLE credit for attending a Committee meeting please RSVP to info@willcountybar.org. You must be a WCBA member in order to receive MCLE credit.
URL:https://willcountybar.net/event/probate-committee-november-committee-meeting/
CATEGORIES:Probate Committee,WCBA Events
ORGANIZER;CN="Will County Bar Association":MAILTO:info@willcountybar.org
END:VEVENT
BEGIN:VEVENT
DTSTART;TZID=America/Chicago:20231009T163000
DTEND;TZID=America/Chicago:20231009T173000
DTSTAMP:20260424T172257
CREATED:20231002T184937Z
LAST-MODIFIED:20231002T184937Z
UID:10000042-1696869000-1696872600@willcountybar.net
SUMMARY:Probate Committee: October Committee Meeting
DESCRIPTION:Speakers presenting on topics of interest to Probate attorneys.  Topics include: Analysis of current cases. \nZoom Details\nMeeting ID: 837 1432 4251\nPasscode: 789702\nLink: https://us02web.zoom.us/j/83714324251?pwd=RngyZkoydFhVeXJicjZhQVE0OC9jdz09 \nIf you would like to receive 1 hour of MCLE credit for attending a Committee meeting please RSVP to info@willcountybar.org. You must be a WCBA member in order to receive MCLE credit.
URL:https://willcountybar.net/event/probate-committee-october-committee-meeting/
CATEGORIES:Probate Committee,WCBA Events
ORGANIZER;CN="Will County Bar Association":MAILTO:info@willcountybar.org
END:VEVENT
BEGIN:VEVENT
DTSTART;TZID=America/Chicago:20230911T163000
DTEND;TZID=America/Chicago:20230911T173000
DTSTAMP:20260424T172257
CREATED:20230824T152250Z
LAST-MODIFIED:20230824T152525Z
UID:10000038-1694449800-1694453400@willcountybar.net
SUMMARY:Probate Committee: September Committee Meeting
DESCRIPTION:Speakers presenting on topics of interest to Probate attorneys.  Topics include: Analysis of current cases. \nZoom Details\nMeeting ID: 841 2641 8049\nPasscode: 032308\nLink: https://us02web.zoom.us/j/84126418049?pwd=ZFhScmFqeDNqZTh1SnFxNW1Ka1RsZz09 \nIf you would like to receive 1 hour of MCLE credit for attending a Committee meeting please RSVP to info@willcountybar.org. You must be a WCBA member in order to receive MCLE credit.
URL:https://willcountybar.net/event/probate-committee-september-committee-meeting/
CATEGORIES:Probate Committee,WCBA Events
ORGANIZER;CN="Will County Bar Association":MAILTO:info@willcountybar.org
END:VEVENT
BEGIN:VEVENT
DTSTART;TZID=America/Chicago:20230508T163000
DTEND;TZID=America/Chicago:20230508T173000
DTSTAMP:20260424T172257
CREATED:20230502T173437Z
LAST-MODIFIED:20230502T173437Z
UID:10000011-1683563400-1683567000@willcountybar.net
SUMMARY:Probate Committee: May Committee Meeting
DESCRIPTION:Speakers presenting on topics of interest to Probate attorneys.  Topics include: Analysis of current cases. \nZoom Details\nMeeting ID: 822 4823 0552\nPasscode: 734230\nLink: https://us02web.zoom.us/j/82248230552?pwd=ZmJUVkV0TnBtbXozbFBZc1dNSkphQT09 \nIf you would like to receive 1 hour of MCLE credit for attending a Committee meeting please RSVP to info@willcountybar.org. You must be a WCBA member in order to receive MCLE credit.
URL:https://willcountybar.net/event/probate-committee-may-committee-meeting/
CATEGORIES:Probate Committee,WCBA Events
ORGANIZER;CN="Will County Bar Association":MAILTO:info@willcountybar.org
END:VEVENT
BEGIN:VEVENT
DTSTART;TZID=America/Chicago:20230410T163000
DTEND;TZID=America/Chicago:20230410T173000
DTSTAMP:20260424T172257
CREATED:20230321T174552Z
LAST-MODIFIED:20230321T175237Z
UID:10000003-1681144200-1681147800@willcountybar.net
SUMMARY:Probate Committee: April Committee Meeting
DESCRIPTION:Speakers presenting on topics of interest to Probate attorneys.  Topics include: Analysis of current cases. \nZoom Details\nMeeting ID: 878 0327 0862\nPasscode: 631484\nLink: https://us02web.zoom.us/j/87803270862?pwd=eVgxVEZvWjFBM0MwTTF3c1M1KzRVQT09 \nIf you would like to receive 1 hour of MCLE credit for attending a Committee meeting please RSVP to info@willcountybar.org. You must be a WCBA member in order to receive MCLE credit.
URL:https://willcountybar.net/event/probate-committee-monthly-committee-meeting/
CATEGORIES:Probate Committee,WCBA Events
ORGANIZER;CN="Will County Bar Association":MAILTO:info@willcountybar.org
END:VEVENT
END:VCALENDAR