BEGIN:VCALENDAR
VERSION:2.0
PRODID:-//Will County Bar Association - ECPv6.15.20//NONSGML v1.0//EN
CALSCALE:GREGORIAN
METHOD:PUBLISH
X-ORIGINAL-URL:https://willcountybar.net
X-WR-CALDESC:Events for Will County Bar Association
REFRESH-INTERVAL;VALUE=DURATION:PT1H
X-Robots-Tag:noindex
X-PUBLISHED-TTL:PT1H
BEGIN:VTIMEZONE
TZID:America/Chicago
BEGIN:DAYLIGHT
TZOFFSETFROM:-0600
TZOFFSETTO:-0500
TZNAME:CDT
DTSTART:20220313T080000
END:DAYLIGHT
BEGIN:STANDARD
TZOFFSETFROM:-0500
TZOFFSETTO:-0600
TZNAME:CST
DTSTART:20221106T070000
END:STANDARD
BEGIN:DAYLIGHT
TZOFFSETFROM:-0600
TZOFFSETTO:-0500
TZNAME:CDT
DTSTART:20230312T080000
END:DAYLIGHT
BEGIN:STANDARD
TZOFFSETFROM:-0500
TZOFFSETTO:-0600
TZNAME:CST
DTSTART:20231105T070000
END:STANDARD
BEGIN:DAYLIGHT
TZOFFSETFROM:-0600
TZOFFSETTO:-0500
TZNAME:CDT
DTSTART:20240310T080000
END:DAYLIGHT
BEGIN:STANDARD
TZOFFSETFROM:-0500
TZOFFSETTO:-0600
TZNAME:CST
DTSTART:20241103T070000
END:STANDARD
BEGIN:DAYLIGHT
TZOFFSETFROM:-0600
TZOFFSETTO:-0500
TZNAME:CDT
DTSTART:20250309T080000
END:DAYLIGHT
BEGIN:STANDARD
TZOFFSETFROM:-0500
TZOFFSETTO:-0600
TZNAME:CST
DTSTART:20251102T070000
END:STANDARD
END:VTIMEZONE
BEGIN:VEVENT
DTSTART;TZID=America/Chicago:20240108T163000
DTEND;TZID=America/Chicago:20240108T173000
DTSTAMP:20260424T191226
CREATED:20231218T184601Z
LAST-MODIFIED:20231218T184601Z
UID:10000051-1704731400-1704735000@willcountybar.net
SUMMARY:Probate Committee: January Committee Meeting
DESCRIPTION:Speakers presenting on topics of interest to Probate attorneys.  Topics include: Analysis of current cases. \nZoom Details\nMeeting ID: 837 0364 3404 \nPasscode: 996405 \nLink: https://us02web.zoom.us/j/83703643404?pwd=d2I4M1QwdjY1aThKNlVZcVg2T1FiQT09 \nIf you would like to receive 1 hour of MCLE credit for attending a Committee meeting please RSVP to info@willcountybar.org. You must be a WCBA member in order to receive MCLE credit.
URL:https://willcountybar.net/event/probate-committee-january-committee-meeting/
CATEGORIES:Probate Committee,WCBA Events
ORGANIZER;CN="Will County Bar Association":MAILTO:info@willcountybar.org
END:VEVENT
BEGIN:VEVENT
DTSTART;TZID=America/Chicago:20231113T163000
DTEND;TZID=America/Chicago:20231113T173000
DTSTAMP:20260424T191226
CREATED:20231031T182203Z
LAST-MODIFIED:20231031T182203Z
UID:10000046-1699893000-1699896600@willcountybar.net
SUMMARY:Probate Committee: November Committee Meeting
DESCRIPTION:Speakers presenting on topics of interest to Probate attorneys.  Topics include: Analysis of current cases. \nZoom Details\nMeeting ID: 867 6455 7844\nPasscode: 486736\nLink: https://us02web.zoom.us/j/86764557844?pwd=L0hEVWpUNnhaVThha2ZUcWlTM29zUT09 \nIf you would like to receive 1 hour of MCLE credit for attending a Committee meeting please RSVP to info@willcountybar.org. You must be a WCBA member in order to receive MCLE credit.
URL:https://willcountybar.net/event/probate-committee-november-committee-meeting/
CATEGORIES:Probate Committee,WCBA Events
ORGANIZER;CN="Will County Bar Association":MAILTO:info@willcountybar.org
END:VEVENT
BEGIN:VEVENT
DTSTART;TZID=America/Chicago:20231009T163000
DTEND;TZID=America/Chicago:20231009T173000
DTSTAMP:20260424T191226
CREATED:20231002T184937Z
LAST-MODIFIED:20231002T184937Z
UID:10000042-1696869000-1696872600@willcountybar.net
SUMMARY:Probate Committee: October Committee Meeting
DESCRIPTION:Speakers presenting on topics of interest to Probate attorneys.  Topics include: Analysis of current cases. \nZoom Details\nMeeting ID: 837 1432 4251\nPasscode: 789702\nLink: https://us02web.zoom.us/j/83714324251?pwd=RngyZkoydFhVeXJicjZhQVE0OC9jdz09 \nIf you would like to receive 1 hour of MCLE credit for attending a Committee meeting please RSVP to info@willcountybar.org. You must be a WCBA member in order to receive MCLE credit.
URL:https://willcountybar.net/event/probate-committee-october-committee-meeting/
CATEGORIES:Probate Committee,WCBA Events
ORGANIZER;CN="Will County Bar Association":MAILTO:info@willcountybar.org
END:VEVENT
BEGIN:VEVENT
DTSTART;TZID=America/Chicago:20230911T163000
DTEND;TZID=America/Chicago:20230911T173000
DTSTAMP:20260424T191226
CREATED:20230824T152250Z
LAST-MODIFIED:20230824T152525Z
UID:10000038-1694449800-1694453400@willcountybar.net
SUMMARY:Probate Committee: September Committee Meeting
DESCRIPTION:Speakers presenting on topics of interest to Probate attorneys.  Topics include: Analysis of current cases. \nZoom Details\nMeeting ID: 841 2641 8049\nPasscode: 032308\nLink: https://us02web.zoom.us/j/84126418049?pwd=ZFhScmFqeDNqZTh1SnFxNW1Ka1RsZz09 \nIf you would like to receive 1 hour of MCLE credit for attending a Committee meeting please RSVP to info@willcountybar.org. You must be a WCBA member in order to receive MCLE credit.
URL:https://willcountybar.net/event/probate-committee-september-committee-meeting/
CATEGORIES:Probate Committee,WCBA Events
ORGANIZER;CN="Will County Bar Association":MAILTO:info@willcountybar.org
END:VEVENT
BEGIN:VEVENT
DTSTART;TZID=America/Chicago:20230508T163000
DTEND;TZID=America/Chicago:20230508T173000
DTSTAMP:20260424T191226
CREATED:20230502T173437Z
LAST-MODIFIED:20230502T173437Z
UID:10000011-1683563400-1683567000@willcountybar.net
SUMMARY:Probate Committee: May Committee Meeting
DESCRIPTION:Speakers presenting on topics of interest to Probate attorneys.  Topics include: Analysis of current cases. \nZoom Details\nMeeting ID: 822 4823 0552\nPasscode: 734230\nLink: https://us02web.zoom.us/j/82248230552?pwd=ZmJUVkV0TnBtbXozbFBZc1dNSkphQT09 \nIf you would like to receive 1 hour of MCLE credit for attending a Committee meeting please RSVP to info@willcountybar.org. You must be a WCBA member in order to receive MCLE credit.
URL:https://willcountybar.net/event/probate-committee-may-committee-meeting/
CATEGORIES:Probate Committee,WCBA Events
ORGANIZER;CN="Will County Bar Association":MAILTO:info@willcountybar.org
END:VEVENT
BEGIN:VEVENT
DTSTART;TZID=America/Chicago:20230410T163000
DTEND;TZID=America/Chicago:20230410T173000
DTSTAMP:20260424T191226
CREATED:20230321T174552Z
LAST-MODIFIED:20230321T175237Z
UID:10000003-1681144200-1681147800@willcountybar.net
SUMMARY:Probate Committee: April Committee Meeting
DESCRIPTION:Speakers presenting on topics of interest to Probate attorneys.  Topics include: Analysis of current cases. \nZoom Details\nMeeting ID: 878 0327 0862\nPasscode: 631484\nLink: https://us02web.zoom.us/j/87803270862?pwd=eVgxVEZvWjFBM0MwTTF3c1M1KzRVQT09 \nIf you would like to receive 1 hour of MCLE credit for attending a Committee meeting please RSVP to info@willcountybar.org. You must be a WCBA member in order to receive MCLE credit.
URL:https://willcountybar.net/event/probate-committee-monthly-committee-meeting/
CATEGORIES:Probate Committee,WCBA Events
ORGANIZER;CN="Will County Bar Association":MAILTO:info@willcountybar.org
END:VEVENT
END:VCALENDAR