BEGIN:VCALENDAR
VERSION:2.0
PRODID:-//Will County Bar Association - ECPv6.15.20//NONSGML v1.0//EN
CALSCALE:GREGORIAN
METHOD:PUBLISH
X-WR-CALNAME:Will County Bar Association
X-ORIGINAL-URL:https://willcountybar.net
X-WR-CALDESC:Events for Will County Bar Association
REFRESH-INTERVAL;VALUE=DURATION:PT1H
X-Robots-Tag:noindex
X-PUBLISHED-TTL:PT1H
BEGIN:VTIMEZONE
TZID:America/Chicago
BEGIN:DAYLIGHT
TZOFFSETFROM:-0600
TZOFFSETTO:-0500
TZNAME:CDT
DTSTART:20230312T080000
END:DAYLIGHT
BEGIN:STANDARD
TZOFFSETFROM:-0500
TZOFFSETTO:-0600
TZNAME:CST
DTSTART:20231105T070000
END:STANDARD
BEGIN:DAYLIGHT
TZOFFSETFROM:-0600
TZOFFSETTO:-0500
TZNAME:CDT
DTSTART:20240310T080000
END:DAYLIGHT
BEGIN:STANDARD
TZOFFSETFROM:-0500
TZOFFSETTO:-0600
TZNAME:CST
DTSTART:20241103T070000
END:STANDARD
BEGIN:DAYLIGHT
TZOFFSETFROM:-0600
TZOFFSETTO:-0500
TZNAME:CDT
DTSTART:20250309T080000
END:DAYLIGHT
BEGIN:STANDARD
TZOFFSETFROM:-0500
TZOFFSETTO:-0600
TZNAME:CST
DTSTART:20251102T070000
END:STANDARD
BEGIN:DAYLIGHT
TZOFFSETFROM:-0600
TZOFFSETTO:-0500
TZNAME:CDT
DTSTART:20260308T080000
END:DAYLIGHT
BEGIN:STANDARD
TZOFFSETFROM:-0500
TZOFFSETTO:-0600
TZNAME:CST
DTSTART:20261101T070000
END:STANDARD
BEGIN:DAYLIGHT
TZOFFSETFROM:-0600
TZOFFSETTO:-0500
TZNAME:CDT
DTSTART:20270314T080000
END:DAYLIGHT
BEGIN:STANDARD
TZOFFSETFROM:-0500
TZOFFSETTO:-0600
TZNAME:CST
DTSTART:20271107T070000
END:STANDARD
END:VTIMEZONE
BEGIN:VEVENT
DTSTART;TZID=America/Chicago:20260404T100000
DTEND;TZID=America/Chicago:20260404T140000
DTSTAMP:20260424T191322
CREATED:20260317T174848Z
LAST-MODIFIED:20260317T174848Z
UID:10000265-1775296800-1775311200@willcountybar.net
SUMMARY:Hands of Hope Volunteer Event - April 2026
DESCRIPTION:Join the WCBA and volunteer at the upcoming Hands of Hope event! \nFree Food Public Giveaway\nSaturday\, April 4th\n10AM to 2PM \nHands of Hope of Illinois\n511 Oakleaf Ct.\nJoliet\, IL 60436 \nIf you are interested in participating please RSVP to info@willcountybar.org by Thursday\, March 26th.
URL:https://willcountybar.net/event/hands-of-hope-volunteer-event-april-2026/
LOCATION:Hands of Hope\, 511 Oak Leaf Court - Unit C\, Joliet\, IL
CATEGORIES:WCBA Events
ORGANIZER;CN="Will County Bar Association":MAILTO:info@willcountybar.org
END:VEVENT
BEGIN:VEVENT
DTSTART;TZID=America/Chicago:20251115T100000
DTEND;TZID=America/Chicago:20251115T100000
DTSTAMP:20260424T191322
CREATED:20251017T125715Z
LAST-MODIFIED:20251023T150914Z
UID:10000236-1763200800-1763200800@willcountybar.net
SUMMARY:Hands of Hope Volunteer Event - November 2025
DESCRIPTION:If interested in volunteering at this event with the WCBA please RSVP to info@willcountybar.org.
URL:https://willcountybar.net/event/hands-of-hope-volunteer-event-november-2025/
LOCATION:Hands of Hope\, 511 Oak Leaf Court - Unit C\, Joliet\, IL
CATEGORIES:WCBA Events
ORGANIZER;CN="Will County Bar Association":MAILTO:info@willcountybar.org
END:VEVENT
BEGIN:VEVENT
DTSTART;TZID=America/Chicago:20250419T100000
DTEND;TZID=America/Chicago:20250419T140000
DTSTAMP:20260424T191322
CREATED:20250403T163747Z
LAST-MODIFIED:20250403T163747Z
UID:10000205-1745056800-1745071200@willcountybar.net
SUMMARY:Hands of Hope Volunteer Event
DESCRIPTION:If interested in volunteering at this event with the WCBA please RSVP to info@willcountybar.org.
URL:https://willcountybar.net/event/hands-of-hope-volunteer-event/
LOCATION:Hands of Hope\, 511 Oak Leaf Court - Unit C\, Joliet\, IL
CATEGORIES:WCBA Events
ORGANIZER;CN="Will County Bar Association":MAILTO:info@willcountybar.org
END:VEVENT
BEGIN:VEVENT
DTSTART;TZID=America/Chicago:20240323T093000
DTEND;TZID=America/Chicago:20240323T140000
DTSTAMP:20260424T191322
CREATED:20240312T165042Z
LAST-MODIFIED:20240312T165042Z
UID:10000079-1711186200-1711202400@willcountybar.net
SUMMARY:Hands of Hope of Illinois Volunteer Event
DESCRIPTION:
URL:https://willcountybar.net/event/hands-of-hope-of-illinois-volunteer-event/
LOCATION:Hands of Hope\, 511 Oak Leaf Court - Unit C\, Joliet\, IL
CATEGORIES:WCBA Events
ORGANIZER;CN="Will County Bar Association":MAILTO:info@willcountybar.org
END:VEVENT
END:VCALENDAR