BEGIN:VCALENDAR
VERSION:2.0
PRODID:-//Will County Bar Association - ECPv6.15.20//NONSGML v1.0//EN
CALSCALE:GREGORIAN
METHOD:PUBLISH
X-WR-CALNAME:Will County Bar Association
X-ORIGINAL-URL:https://willcountybar.net
X-WR-CALDESC:Events for Will County Bar Association
REFRESH-INTERVAL;VALUE=DURATION:PT1H
X-Robots-Tag:noindex
X-PUBLISHED-TTL:PT1H
BEGIN:VTIMEZONE
TZID:America/Chicago
BEGIN:DAYLIGHT
TZOFFSETFROM:-0600
TZOFFSETTO:-0500
TZNAME:CDT
DTSTART:20220313T080000
END:DAYLIGHT
BEGIN:STANDARD
TZOFFSETFROM:-0500
TZOFFSETTO:-0600
TZNAME:CST
DTSTART:20221106T070000
END:STANDARD
BEGIN:DAYLIGHT
TZOFFSETFROM:-0600
TZOFFSETTO:-0500
TZNAME:CDT
DTSTART:20230312T080000
END:DAYLIGHT
BEGIN:STANDARD
TZOFFSETFROM:-0500
TZOFFSETTO:-0600
TZNAME:CST
DTSTART:20231105T070000
END:STANDARD
BEGIN:DAYLIGHT
TZOFFSETFROM:-0600
TZOFFSETTO:-0500
TZNAME:CDT
DTSTART:20240310T080000
END:DAYLIGHT
BEGIN:STANDARD
TZOFFSETFROM:-0500
TZOFFSETTO:-0600
TZNAME:CST
DTSTART:20241103T070000
END:STANDARD
BEGIN:DAYLIGHT
TZOFFSETFROM:-0600
TZOFFSETTO:-0500
TZNAME:CDT
DTSTART:20250309T080000
END:DAYLIGHT
BEGIN:STANDARD
TZOFFSETFROM:-0500
TZOFFSETTO:-0600
TZNAME:CST
DTSTART:20251102T070000
END:STANDARD
BEGIN:DAYLIGHT
TZOFFSETFROM:-0600
TZOFFSETTO:-0500
TZNAME:CDT
DTSTART:20260308T080000
END:DAYLIGHT
BEGIN:STANDARD
TZOFFSETFROM:-0500
TZOFFSETTO:-0600
TZNAME:CST
DTSTART:20261101T070000
END:STANDARD
END:VTIMEZONE
BEGIN:VEVENT
DTSTART;TZID=America/Chicago:20251210T170000
DTEND;TZID=America/Chicago:20251210T210000
DTSTAMP:20260424T204527
CREATED:20250116T171651Z
LAST-MODIFIED:20250116T171651Z
UID:10000177-1765386000-1765400400@willcountybar.net
SUMMARY:2025 WCBA Christmas Party
DESCRIPTION:All are welcome to attend\, including non-WCBA members! \nDATE: Wednesday\, December 10\, 2025 \nTIME: 5:00 p.m. to 9:00 p.m. \nLOCATION: Mistwood Golf Club Great Hall\, 1700 W. Renwick Rd.\, Romeoville\, IL 60446 \nThere will be no cost to attend. \nRSVP information to be provided as the event becomes closer.
URL:https://willcountybar.net/event/2025-wcba-christmas-party/
LOCATION:Mistwood Golf Club\, 1700 W Renwick Rd\, Romeoville\, IL\, 60446
CATEGORIES:WCBA Events
ORGANIZER;CN="Will County Bar Association":MAILTO:info@willcountybar.org
END:VEVENT
BEGIN:VEVENT
DTSTART;TZID=America/Chicago:20241204T170000
DTEND;TZID=America/Chicago:20241204T210000
DTSTAMP:20260424T204527
CREATED:20240111T193247Z
LAST-MODIFIED:20240111T193247Z
UID:10000061-1733331600-1733346000@willcountybar.net
SUMMARY:2024 WCBA Christmas Party
DESCRIPTION:All are welcome to attend\, including non-WCBA members! \nDATE: Wednesday\, December 4\, 2024 \nTIME: 5:00 p.m. to 9:00 p.m. \nPlease join us to celebrate our Community Service Award Winners with a brief presentation at 6:00 p.m. Winners to be announced. \nLOCATION: Mistwood Golf Club Great Hall\, 1700 W. Renwick Rd.\, Romeoville\, IL 60446 \nThere will be no cost to attend. \nRSVP information to be provided as the event becomes closer.
URL:https://willcountybar.net/event/2024-wcba-christmas-party/
LOCATION:Mistwood Golf Club\, 1700 W Renwick Rd\, Romeoville\, IL\, 60446
CATEGORIES:WCBA Events
ORGANIZER;CN="Will County Bar Association":MAILTO:info@willcountybar.org
END:VEVENT
BEGIN:VEVENT
DTSTART;TZID=America/Chicago:20231207T170000
DTEND;TZID=America/Chicago:20231207T210000
DTSTAMP:20260424T204527
CREATED:20230322T183450Z
LAST-MODIFIED:20230322T183627Z
UID:10000010-1701968400-1701982800@willcountybar.net
SUMMARY:2023 WCBA Christmas Party
DESCRIPTION:All are welcome to attend\, including non-WCBA members! \nDATE: Thursday\, December 7\, 2023 \nTIME: 5:00 p.m. to 9:00 p.m. \nPlease join us to celebrate our Community Service Award Winners with a brief presentation at 6:00 p.m. Winners to be announced. \nLOCATION: Mistwood Golf Club Great Hall\, 1700 W. Renwick Rd.\, Romeoville\, IL 60446 \nThere will be no cost to attend. \nRSVP information to be provided as the event becomes closer.
URL:https://willcountybar.net/event/2023-wcba-christmas-party/
LOCATION:Mistwood Golf Club\, 1700 W Renwick Rd\, Romeoville\, IL\, 60446
CATEGORIES:WCBA Events
ORGANIZER;CN="Will County Bar Association":MAILTO:info@willcountybar.org
END:VEVENT
END:VCALENDAR