BEGIN:VCALENDAR
VERSION:2.0
PRODID:-//Will County Bar Association - ECPv6.15.20//NONSGML v1.0//EN
CALSCALE:GREGORIAN
METHOD:PUBLISH
X-ORIGINAL-URL:https://willcountybar.net
X-WR-CALDESC:Events for Will County Bar Association
REFRESH-INTERVAL;VALUE=DURATION:PT1H
X-Robots-Tag:noindex
X-PUBLISHED-TTL:PT1H
BEGIN:VTIMEZONE
TZID:America/Chicago
BEGIN:DAYLIGHT
TZOFFSETFROM:-0600
TZOFFSETTO:-0500
TZNAME:CDT
DTSTART:20240310T080000
END:DAYLIGHT
BEGIN:STANDARD
TZOFFSETFROM:-0500
TZOFFSETTO:-0600
TZNAME:CST
DTSTART:20241103T070000
END:STANDARD
BEGIN:DAYLIGHT
TZOFFSETFROM:-0600
TZOFFSETTO:-0500
TZNAME:CDT
DTSTART:20250309T080000
END:DAYLIGHT
BEGIN:STANDARD
TZOFFSETFROM:-0500
TZOFFSETTO:-0600
TZNAME:CST
DTSTART:20251102T070000
END:STANDARD
BEGIN:DAYLIGHT
TZOFFSETFROM:-0600
TZOFFSETTO:-0500
TZNAME:CDT
DTSTART:20260308T080000
END:DAYLIGHT
BEGIN:STANDARD
TZOFFSETFROM:-0500
TZOFFSETTO:-0600
TZNAME:CST
DTSTART:20261101T070000
END:STANDARD
END:VTIMEZONE
BEGIN:VEVENT
DTSTART;TZID=America/Chicago:20250410T110000
DTEND;TZID=America/Chicago:20250410T140000
DTSTAMP:20260424T224211
CREATED:20250324T140203Z
LAST-MODIFIED:20250324T140258Z
UID:10000201-1744282800-1744293600@willcountybar.net
SUMMARY:CASA of River Valley Plant Pinwheels Volunteer Event
DESCRIPTION:If interested in volunteering at this event with the WCBA please RSVP to info@willcountybar.org.
URL:https://willcountybar.net/event/casa-plant-pinwheels-volunteer-event/
LOCATION:River Valley Justice Center\, 3200 W McDonough St.\, Joliet\, IL\, 60431
CATEGORIES:WCBA Events
ORGANIZER;CN="Will County Bar Association":MAILTO:info@willcountybar.org
END:VEVENT
END:VCALENDAR