BEGIN:VCALENDAR
VERSION:2.0
PRODID:-//Will County Bar Association - ECPv6.15.20//NONSGML v1.0//EN
CALSCALE:GREGORIAN
METHOD:PUBLISH
X-ORIGINAL-URL:https://willcountybar.net
X-WR-CALDESC:Events for Will County Bar Association
REFRESH-INTERVAL;VALUE=DURATION:PT1H
X-Robots-Tag:noindex
X-PUBLISHED-TTL:PT1H
BEGIN:VTIMEZONE
TZID:America/Chicago
BEGIN:DAYLIGHT
TZOFFSETFROM:-0600
TZOFFSETTO:-0500
TZNAME:CDT
DTSTART:20230312T080000
END:DAYLIGHT
BEGIN:STANDARD
TZOFFSETFROM:-0500
TZOFFSETTO:-0600
TZNAME:CST
DTSTART:20231105T070000
END:STANDARD
BEGIN:DAYLIGHT
TZOFFSETFROM:-0600
TZOFFSETTO:-0500
TZNAME:CDT
DTSTART:20240310T080000
END:DAYLIGHT
BEGIN:STANDARD
TZOFFSETFROM:-0500
TZOFFSETTO:-0600
TZNAME:CST
DTSTART:20241103T070000
END:STANDARD
BEGIN:DAYLIGHT
TZOFFSETFROM:-0600
TZOFFSETTO:-0500
TZNAME:CDT
DTSTART:20250309T080000
END:DAYLIGHT
BEGIN:STANDARD
TZOFFSETFROM:-0500
TZOFFSETTO:-0600
TZNAME:CST
DTSTART:20251102T070000
END:STANDARD
BEGIN:DAYLIGHT
TZOFFSETFROM:-0600
TZOFFSETTO:-0500
TZNAME:CDT
DTSTART:20260308T080000
END:DAYLIGHT
BEGIN:STANDARD
TZOFFSETFROM:-0500
TZOFFSETTO:-0600
TZNAME:CST
DTSTART:20261101T070000
END:STANDARD
BEGIN:DAYLIGHT
TZOFFSETFROM:-0600
TZOFFSETTO:-0500
TZNAME:CDT
DTSTART:20270314T080000
END:DAYLIGHT
BEGIN:STANDARD
TZOFFSETFROM:-0500
TZOFFSETTO:-0600
TZNAME:CST
DTSTART:20271107T070000
END:STANDARD
END:VTIMEZONE
BEGIN:VEVENT
DTSTART;TZID=America/Chicago:20260408T120000
DTEND;TZID=America/Chicago:20260408T131500
DTSTAMP:20260424T172129
CREATED:20260317T174552Z
LAST-MODIFIED:20260317T174552Z
UID:10000264-1775649600-1775654100@willcountybar.net
SUMMARY:Young Lawyers Committee: Lunch & Learn Series
DESCRIPTION:YLD events are open to both recently-admitted\, practicing attorneys as well as aspiring attorneys. \nYou must be a member of the WCBA in order to obtain the CLE.
URL:https://willcountybar.net/event/young-lawyers-committee-lunch-learn-series-2/
LOCATION:Will County Courthouse\, 100 W Jefferson St\, Joliet\, IL\, 60432\, United States
CATEGORIES:WCBA Events,Young Lawyers Committee
ORGANIZER;CN="Will County Bar Association":MAILTO:info@willcountybar.org
END:VEVENT
BEGIN:VEVENT
DTSTART;TZID=America/Chicago:20260206T083000
DTEND;TZID=America/Chicago:20260206T103000
DTSTAMP:20260424T172129
CREATED:20260112T190458Z
LAST-MODIFIED:20260112T190458Z
UID:10000256-1770366600-1770373800@willcountybar.net
SUMMARY:First Fridays: Coffee & Breakfast February 2026
DESCRIPTION:
URL:https://willcountybar.net/event/first-fridays-coffee-breakfast-february-2026/
LOCATION:Will County Courthouse\, 100 W Jefferson St\, Joliet\, IL\, 60432\, United States
CATEGORIES:WCBA Events
ORGANIZER;CN="Will County Bar Association":MAILTO:info@willcountybar.org
END:VEVENT
BEGIN:VEVENT
DTSTART;TZID=America/Chicago:20251205T083000
DTEND;TZID=America/Chicago:20251205T103000
DTSTAMP:20260424T172129
CREATED:20250116T174155Z
LAST-MODIFIED:20250116T174155Z
UID:10000187-1764923400-1764930600@willcountybar.net
SUMMARY:First Fridays: Coffee & Breakfast
DESCRIPTION:
URL:https://willcountybar.net/event/first-fridays-coffee-breakfast-15/
LOCATION:Will County Courthouse\, 100 W Jefferson St\, Joliet\, IL\, 60432\, United States
CATEGORIES:WCBA Events
ORGANIZER;CN="Will County Bar Association":MAILTO:info@willcountybar.org
END:VEVENT
BEGIN:VEVENT
DTSTART;TZID=America/Chicago:20251107T083000
DTEND;TZID=America/Chicago:20251107T103000
DTSTAMP:20260424T172129
CREATED:20250116T173903Z
LAST-MODIFIED:20250116T173903Z
UID:10000186-1762504200-1762511400@willcountybar.net
SUMMARY:First Fridays: Coffee & Breakfast
DESCRIPTION:
URL:https://willcountybar.net/event/first-fridays-coffee-breakfast-14/
LOCATION:Will County Courthouse\, 100 W Jefferson St\, Joliet\, IL\, 60432\, United States
CATEGORIES:WCBA Events
ORGANIZER;CN="Will County Bar Association":MAILTO:info@willcountybar.org
END:VEVENT
BEGIN:VEVENT
DTSTART;TZID=America/Chicago:20251003T083000
DTEND;TZID=America/Chicago:20251003T103000
DTSTAMP:20260424T172129
CREATED:20250116T173727Z
LAST-MODIFIED:20250116T173727Z
UID:10000185-1759480200-1759487400@willcountybar.net
SUMMARY:First Fridays: Coffee & Breakfast
DESCRIPTION:
URL:https://willcountybar.net/event/first-fridays-coffee-breakfast-13/
LOCATION:Will County Courthouse\, 100 W Jefferson St\, Joliet\, IL\, 60432\, United States
CATEGORIES:WCBA Events
ORGANIZER;CN="Will County Bar Association":MAILTO:info@willcountybar.org
END:VEVENT
BEGIN:VEVENT
DTSTART;TZID=America/Chicago:20250918T130000
DTEND;TZID=America/Chicago:20250918T163000
DTSTAMP:20260424T172129
CREATED:20250528T155607Z
LAST-MODIFIED:20250917T154848Z
UID:10000222-1758200400-1758213000@willcountybar.net
SUMMARY:Civil Committee Annual Seminar - September 2025 - CANCELED
DESCRIPTION:The Seminar has been canceled and will be rescheduled for a later date. \nIf you would like to receive 3 hours of MCLE credit for attending the seminar please RSVP to info@willcountybar.org. You must be a WCBA member in order to receive MCLE credit.
URL:https://willcountybar.net/event/civil-committee-annual-seminar-september-2025/
LOCATION:Will County Courthouse\, 100 W Jefferson St\, Joliet\, IL\, 60432\, United States
CATEGORIES:Civil Litigation Committee,WCBA Events
ORGANIZER;CN="Will County Bar Association":MAILTO:info@willcountybar.org
END:VEVENT
BEGIN:VEVENT
DTSTART;TZID=America/Chicago:20250905T083000
DTEND;TZID=America/Chicago:20250905T103000
DTSTAMP:20260424T172129
CREATED:20250116T173256Z
LAST-MODIFIED:20250116T173256Z
UID:10000184-1757061000-1757068200@willcountybar.net
SUMMARY:First Fridays: Coffee & Breakfast
DESCRIPTION:
URL:https://willcountybar.net/event/first-fridays-coffee-breakfast-12/
LOCATION:Will County Courthouse\, 100 W Jefferson St\, Joliet\, IL\, 60432\, United States
CATEGORIES:WCBA Events
ORGANIZER;CN="Will County Bar Association":MAILTO:info@willcountybar.org
END:VEVENT
BEGIN:VEVENT
DTSTART;TZID=America/Chicago:20250801T083000
DTEND;TZID=America/Chicago:20250801T103000
DTSTAMP:20260424T172129
CREATED:20250116T173052Z
LAST-MODIFIED:20250116T173052Z
UID:10000183-1754037000-1754044200@willcountybar.net
SUMMARY:First Fridays: Coffee & Breakfast
DESCRIPTION:
URL:https://willcountybar.net/event/first-fridays-coffee-breakfast-11/
LOCATION:Will County Courthouse\, 100 W Jefferson St\, Joliet\, IL\, 60432\, United States
CATEGORIES:WCBA Events
ORGANIZER;CN="Will County Bar Association":MAILTO:info@willcountybar.org
END:VEVENT
BEGIN:VEVENT
DTSTART;TZID=America/Chicago:20250626T130000
DTEND;TZID=America/Chicago:20250626T163000
DTSTAMP:20260424T172129
CREATED:20250522T154319Z
LAST-MODIFIED:20250617T192542Z
UID:10000220-1750942800-1750955400@willcountybar.net
SUMMARY:Family Law Committee Annual Seminar - CANCELED
DESCRIPTION:The Family Law Committee Annual Seminar is canceled and will be rescheduled for fall 2025.
URL:https://willcountybar.net/event/family-law-committee-annual-seminar-june-2025/
LOCATION:Will County Courthouse\, 100 W Jefferson St\, Joliet\, IL\, 60432\, United States
CATEGORIES:Family Committee,WCBA Events
ORGANIZER;CN="Will County Bar Association":MAILTO:info@willcountybar.org
END:VEVENT
BEGIN:VEVENT
DTSTART;TZID=America/Chicago:20250606T083000
DTEND;TZID=America/Chicago:20250606T103000
DTSTAMP:20260424T172129
CREATED:20250116T172910Z
LAST-MODIFIED:20250116T172910Z
UID:10000182-1749198600-1749205800@willcountybar.net
SUMMARY:First Fridays: Coffee & Breakfast
DESCRIPTION:
URL:https://willcountybar.net/event/first-fridays-coffee-breakfast-10/
LOCATION:Will County Courthouse\, 100 W Jefferson St\, Joliet\, IL\, 60432\, United States
CATEGORIES:WCBA Events
ORGANIZER;CN="Will County Bar Association":MAILTO:info@willcountybar.org
END:VEVENT
BEGIN:VEVENT
DTSTART;TZID=America/Chicago:20250509T123000
DTEND;TZID=America/Chicago:20250509T153000
DTSTAMP:20260424T172129
CREATED:20250422T181842Z
LAST-MODIFIED:20250422T181842Z
UID:10000209-1746793800-1746804600@willcountybar.net
SUMMARY:GAL Committee: GAL Seminar with PRESA
DESCRIPTION:A GAL seminar will be held with PRESA on Friday\, May 9\, 2025\, from 12:30 to 3:30 p.m. in the Lincoln Conference Room on the 2nd floor of the Will County Courthouse. Presenters include Diana Wybourn\, Courtney Mehta\, Dr. Drumond and Pat Lazuka. Lunch will be provided to those who RSVP. \nPlease RSVP to Courtney.Hendersonlaw@gmail.com. You must be a WCBA member in order to receive MCLE credit. \n 
URL:https://willcountybar.net/event/gal-committee-gal-seminar-with-presa/
LOCATION:Will County Courthouse\, 100 W Jefferson St\, Joliet\, IL\, 60432\, United States
CATEGORIES:Guardian Ad Litem Committee,WCBA Events
ORGANIZER;CN="Will County Bar Association":MAILTO:info@willcountybar.org
END:VEVENT
BEGIN:VEVENT
DTSTART;TZID=America/Chicago:20250502T083000
DTEND;TZID=America/Chicago:20250502T103000
DTSTAMP:20260424T172129
CREATED:20250116T172726Z
LAST-MODIFIED:20250116T172726Z
UID:10000181-1746174600-1746181800@willcountybar.net
SUMMARY:First Fridays: Coffee & Breakfast
DESCRIPTION:
URL:https://willcountybar.net/event/first-fridays-coffee-breakfast-9/
LOCATION:Will County Courthouse\, 100 W Jefferson St\, Joliet\, IL\, 60432\, United States
CATEGORIES:WCBA Events
ORGANIZER;CN="Will County Bar Association":MAILTO:info@willcountybar.org
END:VEVENT
BEGIN:VEVENT
DTSTART;TZID=America/Chicago:20250430T120000
DTEND;TZID=America/Chicago:20250430T130000
DTSTAMP:20260424T172129
CREATED:20260217T194901Z
LAST-MODIFIED:20260217T194901Z
UID:10000260-1746014400-1746018000@willcountybar.net
SUMMARY:Criminal Committee: February Committee Meeting
DESCRIPTION:Will County Bar Association Criminal Law Committee will meet Thursday\, March 12th in the Lincoln Conference Room on the second floor of the Will County Courthouse. The meeting is expected to run from 11:45AM to 1:15PM and 1.5 hours of MCLE credit will be earned for attending. Lunch will be served. \nAll are welcome. \nIf you would like to receive 1 hour of MCLE credit for attending a Committee meeting please RSVP to info@willcountybar.org. You must be a WCBA member in order to receive MCLE credit.
URL:https://willcountybar.net/event/criminal-committee-february-committee-meeting-2/
LOCATION:Will County Courthouse\, 100 W Jefferson St\, Joliet\, IL\, 60432\, United States
CATEGORIES:Criminal Committee,WCBA Events
ORGANIZER;CN="Will County Bar Association":MAILTO:info@willcountybar.org
END:VEVENT
BEGIN:VEVENT
DTSTART;TZID=America/Chicago:20250430T120000
DTEND;TZID=America/Chicago:20250430T130000
DTSTAMP:20260424T172129
CREATED:20250409T180032Z
LAST-MODIFIED:20250409T180032Z
UID:10000206-1746014400-1746018000@willcountybar.net
SUMMARY:Criminal Committee: April Committee Meeting
DESCRIPTION:Will County Bar Association Criminal Law Committee will meet Wednesday\, April 30th at Noon in the Lincoln Conference Room on the second floor of the Will County Courthouse.  \nAgenda Topics: \nRick Munoz: Fitness\nChris Watkins: First time weapons probation and electronic monitoring\nTed Hammel:  Caselaw Update \nAll are welcome. \nIf you would like to receive 1 hour of MCLE credit for attending a Committee meeting please RSVP to info@willcountybar.org. You must be a WCBA member in order to receive MCLE credit.
URL:https://willcountybar.net/event/criminal-committee-april-committee-meeting/
LOCATION:Will County Courthouse\, 100 W Jefferson St\, Joliet\, IL\, 60432\, United States
CATEGORIES:Criminal Committee,WCBA Events
ORGANIZER;CN="Will County Bar Association":MAILTO:info@willcountybar.org
END:VEVENT
BEGIN:VEVENT
DTSTART;TZID=America/Chicago:20250429T234500
DTEND;TZID=America/Chicago:20250429T234500
DTSTAMP:20260424T172129
CREATED:20250401T143904Z
LAST-MODIFIED:20250401T144355Z
UID:10000204-1745970300-1745970300@willcountybar.net
SUMMARY:Young Lawyers Committee: Lunch & Learn Series
DESCRIPTION:YLD events are open to both recently-admitted\, practicing attorneys as well as aspiring attorneys. \nYou must be a member of the WCBA in order to obtain the CLE.
URL:https://willcountybar.net/event/young-lawyers-committee-lunch-learn-series/
LOCATION:Will County Courthouse\, 100 W Jefferson St\, Joliet\, IL\, 60432\, United States
CATEGORIES:WCBA Events,Young Lawyers Committee
ORGANIZER;CN="Will County Bar Association":MAILTO:info@willcountybar.org
END:VEVENT
BEGIN:VEVENT
DTSTART;TZID=America/Chicago:20250424T120000
DTEND;TZID=America/Chicago:20250424T163000
DTSTAMP:20260424T172129
CREATED:20250320T161958Z
LAST-MODIFIED:20250326T161612Z
UID:10000198-1745496000-1745512200@willcountybar.net
SUMMARY:3rd Annual Professional Responsibility CLE Seminar & Wellness Fair
DESCRIPTION:RSVP now for the 3rd Annual Professional Responsibility CLE Seminar & Wellness Fair that will be held at the Will County Courthouse at 100 W Jefferson\, Joliet on Thursday\, April 24th from 12:00 P.M. to 4:30 P.M. \nThis program focuses on the importance of attorney self-care in an ever-stressful and emotionally challenging career. Registrants will receive 3 Professional Responsibility CLE credits for attending presentations from Dr. Diana Uchiyama from the Illinois Lawyers’ Assistance Program\, Sandra Yamate from the Institute for Inclusion in the Legal Profession\, and attorney Paige N. Fox from Fox Law\, LLC. \nWill County Bar Association members and courthouse staff and personnel are invited to attend the Health & Wellness Vendor Fair from 12pm to 1pm\, which will feature various vendors whose businesses place focus on physical and mental health and well-being. Attendees will also be entered to win raffle prizes! \nVendors include:\n* Emediate Cure\n* Fitness Premier\n* Jewel-Osco\n* Kane and Kendall Spine Management\n* LifeSculpt Mokena\n* Orangetheory Fitness Shorewood\n* RejuveNate Plants & Wellness LLC\n* Sage Bodywork & Wellness\n* Silver Cross Hospital\n* StretchLab Shorewood\n* More to be announced! \nPlease join us for this very special program. Three (3) hours of CLE credit will be earned for attending. Please note\, in order to receive MCLE Credit for attending a seminar\, you must be a WCBA member. Please send your RSVP and questions via email to info@willcountybar.org or call the office at (815) 726-0383.
URL:https://willcountybar.net/event/3rd-annual-professional-responsibility-cle-seminar-wellness-fair/
LOCATION:Will County Courthouse\, 100 W Jefferson St\, Joliet\, IL\, 60432\, United States
CATEGORIES:WCBA Events
ORGANIZER;CN="Will County Bar Association":MAILTO:info@willcountybar.org
END:VEVENT
BEGIN:VEVENT
DTSTART;TZID=America/Chicago:20250404T083000
DTEND;TZID=America/Chicago:20250404T103000
DTSTAMP:20260424T172129
CREATED:20250116T172451Z
LAST-MODIFIED:20250116T172451Z
UID:10000180-1743755400-1743762600@willcountybar.net
SUMMARY:First Fridays: Coffee & Breakfast
DESCRIPTION:
URL:https://willcountybar.net/event/first-fridays-coffee-breakfast-8/
LOCATION:Will County Courthouse\, 100 W Jefferson St\, Joliet\, IL\, 60432\, United States
CATEGORIES:WCBA Events
ORGANIZER;CN="Will County Bar Association":MAILTO:info@willcountybar.org
END:VEVENT
BEGIN:VEVENT
DTSTART;TZID=America/Chicago:20250307T083000
DTEND;TZID=America/Chicago:20250307T103000
DTSTAMP:20260424T172129
CREATED:20250116T172216Z
LAST-MODIFIED:20250116T172216Z
UID:10000179-1741336200-1741343400@willcountybar.net
SUMMARY:First Fridays: Coffee & Breakfast
DESCRIPTION:
URL:https://willcountybar.net/event/first-fridays-coffee-breakfast-7/
LOCATION:Will County Courthouse\, 100 W Jefferson St\, Joliet\, IL\, 60432\, United States
CATEGORIES:WCBA Events
ORGANIZER;CN="Will County Bar Association":MAILTO:info@willcountybar.org
END:VEVENT
BEGIN:VEVENT
DTSTART;TZID=America/Chicago:20250207T083000
DTEND;TZID=America/Chicago:20250207T103000
DTSTAMP:20260424T172129
CREATED:20250116T171832Z
LAST-MODIFIED:20250116T171832Z
UID:10000178-1738917000-1738924200@willcountybar.net
SUMMARY:First Fridays: Coffee & Breakfast
DESCRIPTION:
URL:https://willcountybar.net/event/first-fridays-coffee-breakfast-6/
LOCATION:Will County Courthouse\, 100 W Jefferson St\, Joliet\, IL\, 60432\, United States
CATEGORIES:WCBA Events
ORGANIZER;CN="Will County Bar Association":MAILTO:info@willcountybar.org
END:VEVENT
BEGIN:VEVENT
DTSTART;TZID=America/Chicago:20250117T090000
DTEND;TZID=America/Chicago:20250117T160000
DTSTAMP:20260424T172129
CREATED:20250107T190424Z
LAST-MODIFIED:20250107T190424Z
UID:10000171-1737104400-1737129600@willcountybar.net
SUMMARY:Probate Division GAL Training - January 2025
DESCRIPTION:A training seminar for the Probate Division Guardian Ad Litems (GALs) will be held Friday\, January 17th in the Lincoln Conference Room on the second floor of the Will County Courthouse. The training will occur from 9:00AM to approximately 4:00PM. This training will be required to be appointed as a GAL in the Probate Division. If you are interested in attending please RSVP to info@willcountybar.org. Any questions about the training should be directed to Lisa Kinser directly at kinserlawfirm@gmail.com or (815)521-8447. \nIf you would like to receive 6 hours of MCLE credit for attending you must be a WCBA member.
URL:https://willcountybar.net/event/probate-division-gal-training-january-2025/
LOCATION:Will County Courthouse\, 100 W Jefferson St\, Joliet\, IL\, 60432\, United States
CATEGORIES:Guardian Ad Litem Committee,WCBA Events
ORGANIZER;CN="Will County Bar Association":MAILTO:info@willcountybar.org
END:VEVENT
BEGIN:VEVENT
DTSTART;TZID=America/Chicago:20241101T083000
DTEND;TZID=America/Chicago:20241101T103000
DTSTAMP:20260424T172129
CREATED:20241015T191246Z
LAST-MODIFIED:20241015T191246Z
UID:10000105-1730449800-1730457000@willcountybar.net
SUMMARY:First Fridays: Coffee & Breakfast
DESCRIPTION:
URL:https://willcountybar.net/event/first-fridays-coffee-breakfast-5/
LOCATION:Will County Courthouse\, 100 W Jefferson St\, Joliet\, IL\, 60432\, United States
CATEGORIES:WCBA Events
ORGANIZER;CN="Will County Bar Association":MAILTO:info@willcountybar.org
END:VEVENT
BEGIN:VEVENT
DTSTART;TZID=America/Chicago:20241004T083000
DTEND;TZID=America/Chicago:20241004T103000
DTSTAMP:20260424T172129
CREATED:20240909T172515Z
LAST-MODIFIED:20240909T172515Z
UID:10000102-1728030600-1728037800@willcountybar.net
SUMMARY:First Fridays: Coffee & Breakfast
DESCRIPTION:
URL:https://willcountybar.net/event/first-fridays-coffee-breakfast-4/
LOCATION:Will County Courthouse\, 100 W Jefferson St\, Joliet\, IL\, 60432\, United States
CATEGORIES:WCBA Events
ORGANIZER;CN="Will County Bar Association":MAILTO:info@willcountybar.org
END:VEVENT
BEGIN:VEVENT
DTSTART;TZID=America/Chicago:20240906T083000
DTEND;TZID=America/Chicago:20240906T103000
DTSTAMP:20260424T172129
CREATED:20240625T175507Z
LAST-MODIFIED:20240719T003317Z
UID:10000087-1725611400-1725618600@willcountybar.net
SUMMARY:First Fridays: Coffee & Breakfast
DESCRIPTION:
URL:https://willcountybar.net/event/first-fridays-coffee-breakfast-3/
LOCATION:Will County Courthouse\, 100 W Jefferson St\, Joliet\, IL\, 60432\, United States
CATEGORIES:WCBA Events
ORGANIZER;CN="Will County Bar Association":MAILTO:info@willcountybar.org
END:VEVENT
BEGIN:VEVENT
DTSTART;TZID=America/Chicago:20240716T120000
DTEND;TZID=America/Chicago:20240716T133000
DTSTAMP:20260424T172129
CREATED:20240625T180415Z
LAST-MODIFIED:20240625T180731Z
UID:10000090-1721131200-1721136600@willcountybar.net
SUMMARY:Justices of the Third District Appellate Court Lunch
DESCRIPTION:The Will County Bar Association \nInvites You to Attend: \nJustices of the Third District Appellate Court Luncheon \nPlease join us for a luncheon with the Third District Appellate Court Justices at the Will County Courthouse. We will open with remarks by WCBA First Vice President Mikal Stole\, followed by lunch and conversation with and among the Justices and other WCBA members. \nPlease note that registration is required\, and attendance is limited.  \nDate: Tuesday\, July 16\, 2024 \nTime: 12:00 p.m. to 1:30 p.m. \nLocation: Will County Courthouse\, 5th Floor\, Side Room of the Side Bar Cafe \nCLE Credit:  Participants will earn 1 hour of credit for this event. \nCost:  The event is free for all WCBA members. A non-refundable $75 fee will be charged to all non-WCBA members and must be paid in full to reserve a spot. Lunch is included. \nRSVP: Call (815)726-0383 or email info@willcountybar.org\, RSVPs will be accepted on a first come basis. \nCancellations: If you register but later become unable to attend\, please contact the WCBA so that we may let someone else take the space.
URL:https://willcountybar.net/event/justices-of-the-third-district-appellate-court-lunch/
LOCATION:Will County Courthouse\, 100 W Jefferson St\, Joliet\, IL\, 60432\, United States
CATEGORIES:WCBA Events
ORGANIZER;CN="Will County Bar Association":MAILTO:info@willcountybar.org
END:VEVENT
BEGIN:VEVENT
DTSTART;TZID=America/Chicago:20240606T083000
DTEND;TZID=America/Chicago:20240606T103000
DTSTAMP:20260424T172129
CREATED:20240528T171825Z
LAST-MODIFIED:20240528T171825Z
UID:10000086-1717662600-1717669800@willcountybar.net
SUMMARY:First Fridays: Coffee & Breakfast
DESCRIPTION:
URL:https://willcountybar.net/event/first-fridays-coffee-breakfast-2/
LOCATION:Will County Courthouse\, 100 W Jefferson St\, Joliet\, IL\, 60432\, United States
CATEGORIES:WCBA Events
ORGANIZER;CN="Will County Bar Association":MAILTO:info@willcountybar.org
END:VEVENT
BEGIN:VEVENT
DTSTART;TZID=America/Chicago:20240516T130000
DTEND;TZID=America/Chicago:20240516T163000
DTSTAMP:20260424T172129
CREATED:20240221T200636Z
LAST-MODIFIED:20240221T200636Z
UID:10000070-1715864400-1715877000@willcountybar.net
SUMMARY:Family Law Committee Annual Seminar - May 2024
DESCRIPTION:Agenda and more details to be provided.  The Seminar will be held in the Lincoln Conference Room on the 2nd floor of the Will County Courthouse. \nPlease RSVP to info@willcountybar.org if you would like to receive 3 hours of MCLE credit for attending. You must be a WCBA member in order to receive MCLE credit.
URL:https://willcountybar.net/event/family-law-committee-annual-seminar-may-2024/
LOCATION:100 W Jefferson St\, Joliet\, IL\, 60432\, United States
CATEGORIES:Family Committee,WCBA Events
ORGANIZER;CN="Will County Bar Association":MAILTO:info@willcountybar.org
END:VEVENT
BEGIN:VEVENT
DTSTART;TZID=America/Chicago:20240503T083000
DTEND;TZID=America/Chicago:20240503T103000
DTSTAMP:20260424T172129
CREATED:20240416T160626Z
LAST-MODIFIED:20240416T160736Z
UID:10000084-1714725000-1714732200@willcountybar.net
SUMMARY:First Fridays: Coffee & Breakfast
DESCRIPTION:
URL:https://willcountybar.net/event/first-fridays-coffee-breakfast/
LOCATION:Will County Courthouse\, 100 W Jefferson St\, Joliet\, IL\, 60432\, United States
CATEGORIES:WCBA Events
ORGANIZER;CN="Will County Bar Association":MAILTO:info@willcountybar.org
END:VEVENT
BEGIN:VEVENT
DTSTART;TZID=America/Chicago:20240430T120000
DTEND;TZID=America/Chicago:20240430T160000
DTSTAMP:20260424T172129
CREATED:20240111T193010Z
LAST-MODIFIED:20240409T163842Z
UID:10000059-1714478400-1714492800@willcountybar.net
SUMMARY:GAL Committee: April Committee Seminar
DESCRIPTION:Save the date for the GAL Committee and PRESA’s Annual Seminar “PARENT VS. PAL: HOW PARENTS’ TREATMENT OF EACH OTHER AND CHILDREN CAN AFFECT THE CHILDREN’S MENTAL\, MORAL\, EMOTIONAL OR PHYSICAL HEALTH.” The seminar will be held from 12:00p.m. until 4:00p.m. on Tuesday\, April 30th in the Side Room of the Side Bar Cafe. Please RSVP with WCBA as soon as possible since lunch will be served and space is limited. \nSpeakers to include Robert Shapiro\, Diana Wybourn (J.D. and PRESA\, LLC.)\, Lynn Alleruzzo (LCPC and visitation supervisor) We will focus on 750 ILCS 5/603.10 restriction of parenting time\, relevant factors\, updated case law\, perspectives of a counselor and supervisors and Supreme Court Rule 215 examinations pertaining to the safety of children. \nIf you would like to receive 3.75 hours of MCLE credit for attending please RSVP to Courtney.Hendersonlaw@gmail.com. You must be a WCBA member in order to receive MCLE credit.
URL:https://willcountybar.net/event/gal-committee-april-committee-meeting/
LOCATION:Will County Courthouse\, 100 W Jefferson St\, Joliet\, IL\, 60432\, United States
CATEGORIES:Guardian Ad Litem Committee,WCBA Events
ORGANIZER;CN="Will County Bar Association":MAILTO:info@willcountybar.org
END:VEVENT
BEGIN:VEVENT
DTSTART;TZID=America/Chicago:20240327T234500
DTEND;TZID=America/Chicago:20240327T234500
DTSTAMP:20260424T172129
CREATED:20240306T173424Z
LAST-MODIFIED:20240306T173454Z
UID:10000074-1711583100-1711583100@willcountybar.net
SUMMARY:Young Lawyers Committee: The Honorable Robert M. Dow\, Jr. Discussion
DESCRIPTION:Join the Young Lawyers Committee for a presentation from The Honorable Robert M. Dow\, Jr.\, the Counselor to Chief Justice John G. Roberts. \nLunch and CLE will be provided.  You must be a member of the WCBA in order to obtain the CLE.  RSVP by 3/18/24. \nEach year the YLD hosts a number of events that include both social outings (i.e.\, baseball games and speaking events) as well as community service projects (i.e.\, assisting organizations like the Northern Illinois Food Bank Habitat for Humanity with local projects). It is the YLD’s hope that these events will offer young lawyers the opportunity to grow both professionally and personally by becoming more immersed in the community in which they work. \nYLD events are open to both recently-admitted\, practicing attorneys as well as aspiring attorneys.
URL:https://willcountybar.net/event/young-lawyers-committee-the-honorable-robert-m-dow-jr-discussion/
LOCATION:Will County Courthouse\, 100 W Jefferson St\, Joliet\, IL\, 60432\, United States
CATEGORIES:WCBA Events,Young Lawyers Committee
ORGANIZER;CN="Will County Bar Association":MAILTO:info@willcountybar.org
END:VEVENT
BEGIN:VEVENT
DTSTART;TZID=America/Chicago:20240315T120000
DTEND;TZID=America/Chicago:20240315T130000
DTSTAMP:20260424T172129
CREATED:20240221T200330Z
LAST-MODIFIED:20240221T200330Z
UID:10000069-1710504000-1710507600@willcountybar.net
SUMMARY:Criminal Committee: March Committee Meeting
DESCRIPTION:Will County Bar Association Criminal Law Committee will meet Friday\, March 15th at Noon in the Lincoln Conference Room on the second floor of the Will County Courthouse. Agenda Topics to be announced.  All are welcome – anyone wishing to assist and participate please appear. Those who have already volunteered – your appearance is appreciated and required. \nIf you would like to receive 1 hour of MCLE credit for attending a Committee meeting please RSVP to info@willcountybar.org. You must be a WCBA member in order to receive MCLE credit.
URL:https://willcountybar.net/event/criminal-committee-march-committee-meeting/
LOCATION:Will County Courthouse\, 100 W Jefferson St\, Joliet\, IL\, 60432\, United States
CATEGORIES:Criminal Committee,WCBA Events
ORGANIZER;CN="Will County Bar Association":MAILTO:info@willcountybar.org
END:VEVENT
END:VCALENDAR