BEGIN:VCALENDAR
VERSION:2.0
PRODID:-//Will County Bar Association - ECPv6.15.20//NONSGML v1.0//EN
CALSCALE:GREGORIAN
METHOD:PUBLISH
X-ORIGINAL-URL:https://willcountybar.net
X-WR-CALDESC:Events for Will County Bar Association
REFRESH-INTERVAL;VALUE=DURATION:PT1H
X-Robots-Tag:noindex
X-PUBLISHED-TTL:PT1H
BEGIN:VTIMEZONE
TZID:America/Chicago
BEGIN:DAYLIGHT
TZOFFSETFROM:-0600
TZOFFSETTO:-0500
TZNAME:CDT
DTSTART:20220313T080000
END:DAYLIGHT
BEGIN:STANDARD
TZOFFSETFROM:-0500
TZOFFSETTO:-0600
TZNAME:CST
DTSTART:20221106T070000
END:STANDARD
BEGIN:DAYLIGHT
TZOFFSETFROM:-0600
TZOFFSETTO:-0500
TZNAME:CDT
DTSTART:20230312T080000
END:DAYLIGHT
BEGIN:STANDARD
TZOFFSETFROM:-0500
TZOFFSETTO:-0600
TZNAME:CST
DTSTART:20231105T070000
END:STANDARD
BEGIN:DAYLIGHT
TZOFFSETFROM:-0600
TZOFFSETTO:-0500
TZNAME:CDT
DTSTART:20240310T080000
END:DAYLIGHT
BEGIN:STANDARD
TZOFFSETFROM:-0500
TZOFFSETTO:-0600
TZNAME:CST
DTSTART:20241103T070000
END:STANDARD
BEGIN:DAYLIGHT
TZOFFSETFROM:-0600
TZOFFSETTO:-0500
TZNAME:CDT
DTSTART:20250309T080000
END:DAYLIGHT
BEGIN:STANDARD
TZOFFSETFROM:-0500
TZOFFSETTO:-0600
TZNAME:CST
DTSTART:20251102T070000
END:STANDARD
END:VTIMEZONE
BEGIN:VEVENT
DTSTART;TZID=America/Chicago:20240208T120000
DTEND;TZID=America/Chicago:20240208T130000
DTSTAMP:20260424T222958
CREATED:20240111T191900Z
LAST-MODIFIED:20240111T191900Z
UID:10000054-1707393600-1707397200@willcountybar.net
SUMMARY:Criminal Committee: February Committee Meeting
DESCRIPTION:Will County Bar Association Criminal Law Committee will meet Thursday\, February 8th at Noon in the Lincoln Conference Room on the second floor of the Will County Courthouse. Agenda Topics include 1) Update Case Law of Bail Reform Issues and 2) Status and Setting Committee meeting to update third floor sentencing orders and setting Committee meeting to update provisions of local rules for Criminal Proceedings. All are welcome – anyone wishing to assist and participate please appear. Those who have already volunteered – your appearance is appreciated and required. \nIf you would like to receive 1 hour of MCLE credit for attending a Committee meeting please RSVP to info@willcountybar.org. You must be a WCBA member in order to receive MCLE credit.
URL:https://willcountybar.net/event/criminal-committee-february-committee-meeting/
LOCATION:Will County Courthouse\, 100 W Jefferson St\, Joliet\, IL\, 60432\, United States
CATEGORIES:Criminal Committee,WCBA Events
ORGANIZER;CN="Will County Bar Association":MAILTO:info@willcountybar.org
END:VEVENT
BEGIN:VEVENT
DTSTART;TZID=America/Chicago:20231130T120000
DTEND;TZID=America/Chicago:20231130T124500
DTSTAMP:20260424T222958
CREATED:20231002T190115Z
LAST-MODIFIED:20231002T190115Z
UID:10000045-1701345600-1701348300@willcountybar.net
SUMMARY:Criminal Committee: November Committee Meeting
DESCRIPTION:Will County Bar Association Criminal Law Committee meeting is scheduled for November 30\, 2023\, @12:00 to 12:45pm at the Lincoln Center room 2nd floor courthouse. Topics include 1) Update Local Rules regarding Criminal Procedure; 2) Update Criminal Sentencing Orders. Selection of Sub-Committee chair and vice-chair\, and creation of sub-committee syllabus etc. All are welcome – anyone wishing to assist and participate please appear. Those who have already volunteered – your appearance is appreciated and required. \nIf you would like to receive .75 hours of MCLE credit for attending a Committee meeting please RSVP to info@willcountybar.org. You must be a WCBA member in order to receive MCLE credit.
URL:https://willcountybar.net/event/criminal-committee-november-committee-meeting/
LOCATION:Will County Courthouse\, 100 W Jefferson St\, Joliet\, IL\, 60432\, United States
CATEGORIES:Criminal Committee,WCBA Events
ORGANIZER;CN="Will County Bar Association":MAILTO:info@willcountybar.org
END:VEVENT
BEGIN:VEVENT
DTSTART;TZID=America/Chicago:20230919T120000
DTEND;TZID=America/Chicago:20230919T130000
DTSTAMP:20260424T222958
CREATED:20230502T192750Z
LAST-MODIFIED:20230830T153056Z
UID:10000024-1695124800-1695128400@willcountybar.net
SUMMARY:GAL Committee: September Committee Meeting
DESCRIPTION:The GAL Committee will meet Tuesday\, September 19th at Noon in the Will County Courthouse Cafeteria (back room) for a Judge’s panel featuring Judge Garcia\, Judge Kennison and Judge Osterberger. This meeting will be a bring your own lunch event. Please submit questions for the Judges to Courtney.Hendersonlaw@gmail.com. \nIf you would like to receive 1 hour of MCLE credit for attending a Committee meeting please RSVP to info@willcountybar.org. You must be a WCBA member in order to receive MCLE credit.
URL:https://willcountybar.net/event/gal-committee-september-committee-meeting/
LOCATION:Will County Courthouse\, 100 W Jefferson St\, Joliet\, IL\, 60432\, United States
CATEGORIES:Guardian Ad Litem Committee,WCBA Events
ORGANIZER;CN="Will County Bar Association":MAILTO:info@willcountybar.org
END:VEVENT
BEGIN:VEVENT
DTSTART;TZID=America/Chicago:20230913T143000
DTEND;TZID=America/Chicago:20230913T163000
DTSTAMP:20260424T222958
CREATED:20230727T155813Z
LAST-MODIFIED:20230727T155813Z
UID:10000034-1694615400-1694622600@willcountybar.net
SUMMARY:Criminal Committee: September Committee Meeting
DESCRIPTION:Speakers presenting on topics of interest to Criminal attorneys. \nAttorneys Kristine Honiotes and Ted Hammel will present on Illinois Bail Reform (Part 2).  Ted also will present on Status of Senate Bill 424 “First Time Weapon Offense Program” and Attorney Terry Wallace will present on Case Law Update. \nThe meeting will be held in the Lincoln Conference Room in the Will County Courthouse. \nIf you would like to receive 1.75 hours of MCLE credit for attending a Committee meeting please RSVP to info@willcountybar.org. You must be a WCBA member in order to receive MCLE credit.
URL:https://willcountybar.net/event/criminal-committee-september-committee-meeting/
LOCATION:Will County Courthouse\, 100 W Jefferson St\, Joliet\, IL\, 60432\, United States
CATEGORIES:Criminal Committee,WCBA Events
ORGANIZER;CN="Will County Bar Association":MAILTO:info@willcountybar.org
END:VEVENT
BEGIN:VEVENT
DTSTART;TZID=America/Chicago:20230816T120000
DTEND;TZID=America/Chicago:20230816T130000
DTSTAMP:20260424T222959
CREATED:20230727T152319Z
LAST-MODIFIED:20230727T160007Z
UID:10000032-1692187200-1692190800@willcountybar.net
SUMMARY:Criminal Committee: August Committee Meeting
DESCRIPTION:Speakers presenting on topics of interest to Criminal attorneys. \nAttorney Kristine Honiotes will present on Illinois Bail Reform\, Attorney Ted Hammel will present on a “Nolle Prosequi’ with the endless refilling of charges and Attorney Kevin Cummings will present on Case Law Update. \nThe meeting will be held in the Lincoln Conference Room in the Will County Courthouse. \nIf you would like to receive .75 hour of MCLE credit for attending a Committee meeting please RSVP to info@willcountybar.org. You must be a WCBA member in order to receive MCLE credit.
URL:https://willcountybar.net/event/criminal-committee-august-committee-meeting/
LOCATION:Will County Courthouse\, 100 W Jefferson St\, Joliet\, IL\, 60432\, United States
CATEGORIES:Criminal Committee,WCBA Events
ORGANIZER;CN="Will County Bar Association":MAILTO:info@willcountybar.org
END:VEVENT
BEGIN:VEVENT
DTSTART;TZID=America/Chicago:20230802T120000
DTEND;TZID=America/Chicago:20230802T131500
DTSTAMP:20260424T222959
CREATED:20230502T175834Z
LAST-MODIFIED:20230502T184217Z
UID:10000014-1690977600-1690982100@willcountybar.net
SUMMARY:Young Lawyers Committee: Lunch & Learn Series - Trial Advocacy Skills
DESCRIPTION:Join the Young Lawyers Committee as well as established practitioners and judges as they chat about necessary skills and tips for oral arguments\, trials\, and effective motion practice. \nEach year the YLD hosts a number of events that include both social outings (i.e.\, baseball games and speaking events) as well as community service projects (i.e.\, assisting organizations like the Northern Illinois Food Bank Habitat for Humanity with local projects). It is the YLD’s hope that these events will offer young lawyers the opportunity to grow both professionally and personally by becoming more immersed in the community in which they work. \nYLD events are open to both recently-admitted\, practicing attorneys as well as aspiring attorneys.
URL:https://willcountybar.net/event/young-lawyers-committee-lunch-learn-series-oral-advocacy-skills/
LOCATION:Will County Courthouse\, 100 W Jefferson St\, Joliet\, IL\, 60432\, United States
CATEGORIES:WCBA Events,Young Lawyers Committee
ORGANIZER;CN="Will County Bar Association":MAILTO:info@willcountybar.org
END:VEVENT
BEGIN:VEVENT
DTSTART;TZID=America/Chicago:20230524T120000
DTEND;TZID=America/Chicago:20230524T131500
DTSTAMP:20260424T222959
CREATED:20230502T184350Z
LAST-MODIFIED:20230502T184350Z
UID:10000017-1684929600-1684934100@willcountybar.net
SUMMARY:Young Lawyers Committee: Lunch & Learn Series - Oral Advocacy Skills
DESCRIPTION:Join the Young Lawyers Committee as well as established practitioners and judges as they chat about necessary skills and tips for oral arguments\, trials\, and effective motion practice. \nEach year the YLD hosts a number of events that include both social outings (i.e.\, baseball games and speaking events) as well as community service projects (i.e.\, assisting organizations like the Northern Illinois Food Bank Habitat for Humanity with local projects). It is the YLD’s hope that these events will offer young lawyers the opportunity to grow both professionally and personally by becoming more immersed in the community in which they work. \nYLD events are open to both recently-admitted\, practicing attorneys as well as aspiring attorneys.
URL:https://willcountybar.net/event/young-lawyers-committee-lunch-learn-series-oral-advocacy-skills-2/
LOCATION:Will County Courthouse\, 100 W Jefferson St\, Joliet\, IL\, 60432\, United States
CATEGORIES:WCBA Events,Young Lawyers Committee
ORGANIZER;CN="Will County Bar Association":MAILTO:info@willcountybar.org
END:VEVENT
BEGIN:VEVENT
DTSTART;TZID=America/Chicago:20230322T130000
DTEND;TZID=America/Chicago:20230322T140000
DTSTAMP:20260424T222959
CREATED:20230319T142105Z
LAST-MODIFIED:20230319T144723Z
UID:10000001-1679490000-1679493600@willcountybar.net
SUMMARY:Young Lawyers Committee: Improv Techniques for Young Lawyers
DESCRIPTION:Each year the YLD hosts a number of events that include both social outings (i.e.\, baseball games and speaking events) as well as community service projects (i.e.\, assisting organizations like the Northern Illinois Food Bank Habitat for Humanity with local projects). It is the YLD’s hope that these events will offer young lawyers the opportunity to grow both professionally and personally by becoming more immersed in the community in which they work. \nYLD events are open to both recently-admitted\, practicing attorneys as well as aspiring attorneys.
URL:https://willcountybar.net/event/young-lawyers-committee-improv-techniques-for-young-lawyers/
LOCATION:Will County Courthouse\, 100 W Jefferson St\, Joliet\, IL\, 60432\, United States
CATEGORIES:WCBA Events,Young Lawyers Committee
ORGANIZER;CN="Will County Bar Association":MAILTO:info@willcountybar.org
END:VEVENT
END:VCALENDAR